BEGIN:VCALENDAR
VERSION:2.0
PRODID:-//Gratis-in-Berlin//NONSGML kigkonsult.se iCalcreator 2.14//
METHOD:PUBLISH
X-WR-CALNAME:Gratis-in-Berlin Tip Kalender
X-WR-CALDESC:Erhalte Gratis-in-Berlin Tips in deinem Kalender
BEGIN:VEVENT
UID:20260424T114525UTC-73417uCKi8@Gratis-in-Berlin
DTSTAMP:20260424T114525Z
DESCRIPTION:Für den 22.November lädt die LAG Umwelt und Klima\, gemeinsam mit dem 
 Grünen Netzwerk ? Entsiegelung für lebende Böden?\, zu einer Veranstaltung mit Grünen Stadtr
 ät*innen ein. Das Thema wird sein:Wie kommen wir in den Bezirken mit Entsieg
 elung und dem Weg zur Schwammstadt wirksamer und schneller voran?Zur Veran
 staltung haben bisher die Stadträt*innen aus den Bezirken Mitte\, CharlWilm\
 , XHain\, Pankow und Tempelhof-Schönberg zugesagt.Wir treffen uns dazu am Mit
 twoch\, 22.11.2023 um 19:00 in der Landesgeschäftsstelle der Grünen\, Kommandante
 nstr. 80\, mit digitalem Zugang (Link wird über den Verteiler mitgeteilt oder i
 hr schreibt uns einfach an umwelt@gruene-berlin.de).Unsere Tagesordnung:TO
 P 1. Zielsetzung: Wie können wir im Bereich Schwammstadt/lebende Böden schaffen 
 in den Bezirken unsere Grüne Handschrift im Vorfeld der nächsten Berliner Wahlen 
 2026 klar und überzeugend erkennbar machen?TOP 2. Beispielhafte Projekte aus de
 n Bezirken (Inputs der Grünen Stadträt*innen)TOP 3. Vernetzung der Bezirke\, best
  practices austauschen: wie kann das gelingen? Wie können wir da als LAG und 
 Bezirks-AGen unterstützen?TOP 4. Umgang mit Entsiegelungs-Initiativen von Anwoh
 nendenDas Sprecher*innen Team der LAG Umwelt und KlimaDatum: 22.11.23 19:0
 0 UhrOrt: Landesgeschäftsstelle\, Kommandantenstraße 80\, 10117 Berlin\n\nVie
 l Spass wünscht Gratis-in-Berlin\n\nLink zum Tip: \nZu den Gratis-in-Berlin Ang
 eboten: http://www.gratis-in-berlin.de\n
DTSTART;VALUE=DATE:20231122
DTEND;VALUE=DATE:20231123
SUMMARY:Wie kommen wir in den Bezirken mit Entsiegelung und dem Weg zur Sch
 wammstadt wirksamer und schneller voran?
END:VEVENT
END:VCALENDAR
