BEGIN:VCALENDAR
VERSION:2.0
PRODID:-//Gratis-in-Berlin//NONSGML kigkonsult.se iCalcreator 2.14//
METHOD:PUBLISH
X-WR-CALNAME:Gratis-in-Berlin Tip Kalender
X-WR-CALDESC:Erhalte Gratis-in-Berlin Tips in deinem Kalender
BEGIN:VEVENT
UID:20260422T132516UTC-9362Fnzgiv@Gratis-in-Berlin
DTSTAMP:20260422T132516Z
DESCRIPTION:Veranstaltungsreihe zum 100. Jubiläum der ersten Vorlesung Romano
  Guardinis in BerlinVortrag von Prof. Dr. Wolfgang BraungartModeration: La
 rissa GergRomano Guardini hat die subjektive Last der Melancholie wahrlich
  gekannt\; er hat in ihr aber auch einen Wahrnehmungsmodus und ein Welt- u
 nd Gottesverhältnis gesehen. Der Vortrag fragt danach\, was man vielleicht g
 enauer an der Liturgie sehen könnte\, wenn man sie unter dem Gesichtspunkt de
 r Melancholie und ? mit Guardini ? als großes Kunstwerk zu verstehen versuc
 ht. Er bezieht dafür Texte von Karl Philipp Moritz\, Hölderlin\, Mörike und Schiller 
 ein. Das Verständnis beider\, der Kunst wie der Liturgie\, gewinnt\, wenn si
 e sich ?wechselseitig erhellen? (O. Walzel) dürfen. Kunst wie Liturgie müssen sich g
 egen die Zumutungen der Brauchbarkeit wehren. Und die Liturgie muss gerade
  in der Moderne eine große Form sein\, die viele ?Religiositäten? integrieren
  kann. Das ist eine große Herausforderung.Das Forum Guardini ist eine Koope
 ration der Katholischen Akademie in Berlin e. V. und der Guardini Stiftung
  e. V.\n\nViel Spass wünscht Gratis-in-Berlin\n\nLink zum Tip: https://www.grat
 is-in-berlin.de/kalender/item/2064144-forum-guardini-melancholie-und-litur
 gie\nZu den Gratis-in-Berlin Angeboten: http://www.gratis-in-berlin.de\n
DTSTART;VALUE=DATE:20231123
DTEND;VALUE=DATE:20231124
SUMMARY:Forum Guardini | Melancholie und Liturgie
END:VEVENT
END:VCALENDAR
