BEGIN:VCALENDAR
VERSION:2.0
PRODID:-//Gratis-in-Berlin//NONSGML kigkonsult.se iCalcreator 2.14//
METHOD:PUBLISH
X-WR-CALNAME:Gratis-in-Berlin Tip Kalender
X-WR-CALDESC:Erhalte Gratis-in-Berlin Tips in deinem Kalender
BEGIN:VEVENT
UID:20260422T083601UTC-7420w2mVKl@Gratis-in-Berlin
DTSTAMP:20260422T083601Z
DESCRIPTION:Im Nordosten von Berlin lag er\, der 1930 eröffnete ?Raketenflugpl
 atz?\, die Wiege der modernen Raumfahrt. Hören Sie von den Raumfahrtenthusias
 ten und den 'Narren von Tegel'.Der 1930 eröffnete ?Raketenflugplatz? gilt als
  Wiege der modernen Raumfahrt und als erster ?space port? überhaupt. Im Nordost
 en Berlins gelegen\, versuchten sich hier eine Reihe von Raumfahrtenthusia
 sten ? die in der Lokalpresse rasch als ?Narren von Tegel? bekannt sein so
 llten ? am Aufbruch zu den Sternen. Sensationelle Selbstdarstellung auf de
 r einen\, und seriöse Forschung und Wissenschaft auf der anderen Seite verwei
 sen auf die komplexen zeitgenössischen Erwartungen\, welche sich mit einer Te
 chnologie verbanden\, die die Grenzen der Vorstellungskraft sprengte.Wie k
 onnte der Raketenflugplatz während der kurzen Zeit seiner Existenz (1930-193
 4) zu einem Ort werden\, von dem nicht nur seine Betreiber später behaupten 
 sollten\, dass hier der Grundstein zu den erfolgreichen späteren Mondmission
 en gelegt worden sei?Mit Dr. Tilmann SiebeneichnerWeitere Infos:Die Verans
 taltung ist Teil der Metropolis Berlin - Reihe. Eintritt frei. Ort: Im Les
 esaal Berlin-Sammlungen 2.OG der Berliner Stadtbibliothek (BStB).In Kooper
 ation mit Leibniz-Zentrum für Zeithistorische Forschung Potsdam\n\nViel Spass w
 ünscht Gratis-in-Berlin\n\nLink zum Tip: \nZu den Gratis-in-Berlin Angeboten: h
 ttp://www.gratis-in-berlin.de\n
DTSTART;VALUE=DATE:20231129
DTEND;VALUE=DATE:20231130
SUMMARY:Vortrag: Raketenpioniere der Weimarer Republik | Metropolis Berlin
END:VEVENT
END:VCALENDAR
