BEGIN:VCALENDAR
VERSION:2.0
PRODID:-//Gratis-in-Berlin//NONSGML kigkonsult.se iCalcreator 2.14//
METHOD:PUBLISH
X-WR-CALNAME:Gratis-in-Berlin Tip Kalender
X-WR-CALDESC:Erhalte Gratis-in-Berlin Tips in deinem Kalender
BEGIN:VEVENT
UID:20260420T143243UTC-9005uGnuAE@Gratis-in-Berlin
DTSTAMP:20260420T143243Z
DESCRIPTION:Die dunkle Jahreszeit erhellen mit Deko und KerzenscheinWir sti
 mmen uns mit selbst gemachten winterlichen Dekorationen und Kerzen auf die
  dunkle Jahreszeit ein. Ihr könnt Fensterschmuck\, Bildcollagen\, Plakate\, G
 eschenkpapier oder Windlicht gestalten und aus Wachsresten eine Kerze zaub
 ern. Auch Kinder sind bei der Veranstaltung herzlich willkommen. Für sie gibt e
 s eine Kinderbetreuung mit einem kreativen Bastelangebot. Dabei verwenden 
 wir gebrauchte Materialien aus unserem alltäglichen Leben. Bei der Bastel- u
 nd Upcyclingaktion geht es neben Spaß und Beisammensein auch um Umweltschut
 z durch den Einsatz von gebrauchten Materialien. Also kommt vorbei\, schna
 ppt euch ein paar Bastelsachen und bastelt\, was das Zeug hält! Wir sind ges
 pannt auf eure Ideen! Für Snacks und Getränke ist gesorgt.Kostenfreies MaterialWi
 r stellen dir vielfältiges und gebrauchtes Material zur Verfügung\, auch Werkzeug
 e und Kleber und zeigen dir\, wie es geht ? alles kostenfrei.Für Einsteigerinne
 n und FortgeschritteneDer Workshop eignet sich sowohl für Einsteigerinnen als a
 uch für Fortgeschrittene\, so können wir unser Wissen und Können teilen.TeilnahmeDie 
 Veranstaltung ist kostenfrei. Kinder sind herzlich willkommen. Wenn du mit
  Kindern teilnehmen willst\, melde dich bitte an bei alleinerziehend@life-
 online.de. Du kannst kommen und gehen\, wie es dir am besten passt. Wenn d
 u Fragen hast\, schreibe uns eine Mail: umweltfrauen@life-online.de oder k
 ontaktiere uns per Mobiltelefon: 0157 58151409.Die Veranstaltung findet st
 att im Rahmen des monatlichen Netzwerktreffens der UmWeltfrauen in Koopera
 tion mit dem Projekt ?Anlauf- und Koordinierungsstelle Alleinerziehende in
  Tempelhof-Schöneberg des Berliner Landesprogramms zur Verbesserung der Infra
 struktur für Alleinerziehende und den Stadteilmüttern.Das Projekt UmWeltfrauen ? Fra
 uen für ein besseres Klima ist ein Netzwerkprojekt für Frauen aus allen Kulturen mit
  Interesse an Umwelt- und Klimaschutz. Du bist herzlich eingeladen\, ein T
 eil des Netzwerks der UmWeltfrauen zu sein. Bei Interesse und Fragen melde
  dich bei uns.Das Projekt UmWeltfrauen ? Frauen* für ein besseres Klima wird ge
 fördert durch das Bundesministerium des Innern\, für Bau und Heimat.\n\nViel Spass
  wünscht Gratis-in-Berlin\n\nLink zum Tip: \nZu den Gratis-in-Berlin Angeboten:
  http://www.gratis-in-berlin.de\n
DTSTART;VALUE=DATE:20231127
DTEND;VALUE=DATE:20231128
SUMMARY:Kreativ in die Winterzeit ? Deko aus Gebrauchtem selber machen
END:VEVENT
END:VCALENDAR
