BEGIN:VCALENDAR
VERSION:2.0
PRODID:-//Gratis-in-Berlin//NONSGML kigkonsult.se iCalcreator 2.14//
METHOD:PUBLISH
X-WR-CALNAME:Gratis-in-Berlin Tip Kalender
X-WR-CALDESC:Erhalte Gratis-in-Berlin Tips in deinem Kalender
BEGIN:VEVENT
UID:20260424T114520UTC-2887EI3BjD@Gratis-in-Berlin
DTSTAMP:20260424T114520Z
DESCRIPTION:Zur Open Air-Ausstellung ?Blockierte Sieger ? Geteiltes Berlin.
  75 Jahre Luftbrücke? am Flughafen Tempelhof gibt es ein spannendes Begleitprog
 ramm: Historiker:innen\, Zeitzeug:innen und Publizist:innen nehmen bei THF
 xLUFTBRÜCKE die damaligen Zustände in den Blick und zeigen auf\, welche Rolle
  die Luftbrücke in der Berliner Erinnerungskultur und auch in der Literatur spi
 elt. Der Historiker Matthias Heisig\, einer der Kuratoren der Ausstellung 
 ?Blockierte Sieger ? Geteiltes Berlin?\, spannt im Gespräch mit dem Literatu
 rkritiker Thomas Wörtche den Bogen von dem 1951 erschienenen Roman ?Air Bridg
 e? des britischen Schriftstellers Hammond Innes bis zum 2021 erschienenen 
 historischen Kriminalroman ?Luftbrücke? von Harald Gilbers. Die Veranstaltungsr
 eihe THFxLUFTBRÜCKE des Militärhistorischen Museums der Bundeswehr Flugplatz 
 Berlin-Gatow\, des Museums Berlin-Karlshorst und des AlliiertenMuseums ist
  Teil der Reihe THFxGESCHICHTE der Tempelhof Projekt GmbH. Allle Veranstal
 tungen finden kostenfrei im Besucherzentrum CHECK-IN des Flughafengebäudes s
 tatt. Die Anmeldung erfolgt über die Website des Militärhistorischen Museums der 
 Bundeswehr Flugplatz Berlin-Gatow: https://mailchi.mp/04f1216032e8/75jahre
 luftbruecke_ausstellungDatum: 22.11.2023 - 19:00 Uhr bis 22.11.2023 - 21:0
 0 UhrReferent:innen: Matthias Heisig\, Historiker/KuratorThomas Wörtche\, Lit
 eraturkritiker/PublizistModeration: Doris Müller-Toovey\, Militärhistorisches Mus
 eum der Bundeswehr Flugplatz Berlin-Gatow\n\nViel Spass wünscht Gratis-in-Berli
 n\n\nLink zum Tip: \nZu den Gratis-in-Berlin Angeboten: http://www.gratis-
 in-berlin.de\n
DTSTART;VALUE=DATE:20231122
DTEND;VALUE=DATE:20231123
SUMMARY:THFxLuftbrücke: Romanzeit ? die Luftbrücke in der Literatur
END:VEVENT
END:VCALENDAR
