BEGIN:VCALENDAR
VERSION:2.0
PRODID:-//Gratis-in-Berlin//NONSGML kigkonsult.se iCalcreator 2.14//
METHOD:PUBLISH
X-WR-CALNAME:Gratis-in-Berlin Tip Kalender
X-WR-CALDESC:Erhalte Gratis-in-Berlin Tips in deinem Kalender
BEGIN:VEVENT
UID:20260420T172519UTC-2481kGVvAK@Gratis-in-Berlin
DTSTAMP:20260420T172519Z
DESCRIPTION:Zur Open Air-Ausstellung ?Blockierte Sieger ? Geteiltes Berlin.
  75 Jahre Luftbrücke? am Flughafen Tempelhof gibt es ein spannendes Begleitprog
 ramm: Historiker:innen\, Zeitzeug:innen und Publizist:innen zeigen bei THF
 xLUFTBRÜCKE auf\, welche Rolle die Luftbrücke in der Berliner Erinnerungskultur 
 und Literatur einnimmt und nehmen die damaligen Zustände in den Blick ? zum 
 Beispiel den Schwarzmarkt. Das Überleben in West-Berlin während der Blockade 
 wurde nicht allein durch die Luftbrücke gesichert. Die Menschen nutzten auch an
 dere Versorgungswege. Der Schwarzmarkt spielte hierbei eine wichtige Rolle
 . Aus Sicht eines Zeitzeugen schildert Walther Grunwald in seinem Buch die
  Risiken\, Ängste und das Selbstverständnis der Schwarzhändler:innen. Der Histo
 riker Malte Zierenberg beleuchtet diese Art des illegalen Tauschhandels ne
 u aus kultur-\, alltags- und wirtschaftsgeschichtlicher Perspektive. Die V
 eranstaltungsreihe THFxLUFTBRÜCKE des Militärhistorischen Museums der Bundesw
 ehr Flugplatz Berlin-Gatow\, des Museums Berlin-Karlshorst und des Alliier
 tenMuseums ist Teil der Reihe THFxGESCHICHTE der Tempelhof Projekt GmbH. A
 lle Veranstaltungen finden kostenfrei im Besucherzentrum CHECK-IN des Flug
 hafengebäudes statt. Die Anmeldung erfolgt über die Website des Militärhistorischen
  Museums der Bundeswehr Flugplatz Berlin-Gatow: https://mailchi.mp/04f1216
 032e8/75jahreluftbruecke_ausstellungDatum: 29.11.2023 - 19:00 Uhr bis 29.1
 1.2023 - 21:00 UhrReferent:innen:Walther Grunewald (Zeitzeuge\, Autor)Malt
 e Zierenberg (Humboldt-Universität zu Berlin)Moderation: Ricardo Neuner (Mus
 eum Berlin-Karlshorst)\n\nViel Spass wünscht Gratis-in-Berlin\n\nLink zum Tip: 
 \nZu den Gratis-in-Berlin Angeboten: http://www.gratis-in-berlin.de\n
DTSTART;VALUE=DATE:20231129
DTEND;VALUE=DATE:20231130
SUMMARY:THFxLuftbrücke: ?Gehungert haben wir nicht.? Der Schwarzmarkt in Berlin 
 1948/49
END:VEVENT
END:VCALENDAR
