BEGIN:VCALENDAR
VERSION:2.0
PRODID:-//Gratis-in-Berlin//NONSGML kigkonsult.se iCalcreator 2.14//
METHOD:PUBLISH
X-WR-CALNAME:Gratis-in-Berlin Tip Kalender
X-WR-CALDESC:Erhalte Gratis-in-Berlin Tips in deinem Kalender
BEGIN:VEVENT
UID:20260422T083530UTC-0382fGVvio@Gratis-in-Berlin
DTSTAMP:20260422T083530Z
DESCRIPTION:Lernt bei unserem Praxisworkshop alles darüber wie ihr eure Heizung 
 optimieren könnt. Ihr werdet in Kleingruppen an einem Heizungsmodell selbst a
 ktiv\, damit ihr die Theorie direkt umsetzen könnt. Neben Basics zum effizien
 ten Heizen stellen wir euch Messgeräte für Temperatur\, Feuchtigkeit und CO2 vor\
 , installieren ein programmierbares Thermostatventil\, reinigen und entlüften d
 en Heizkörper und bringen eine Heizkörpernischendämmfolie an. Termine: 28.11.2023\
 , 17:30 ? 19:30 Uhr @ Berlin Global Village 13.12.2023\, 17:30 ? 19:30 Uhr
  @ VHS Steglitz-Zehlendorf Verbindliche Anmeldung via E-Mail: energiecheck
 @bund-berlin.de Der Workshop ist ein Teil des Projektes 'Berliner Energiec
 heck' vom BUND-Berlin e.V.. Er richtet sich an Berliner*innen\, die bislan
 g nur wenig Möglichkeiten haben\, etwas am Heizungssystem oder an der Gebäudehülle z
 u verändern. Wir beschäftigen uns mit Maßnahmen\, die man kostengünstig und mieterfr
 eundlich mit geringem Eingriff schnell selbst umsetzen kann.Seit dem 01.06
 .2023 wird das Projekt mit Mitteln der Senatsverwaltung für Justiz und Verbrauc
 herschutz finanziell gefördert. Wenn Sie sich für eine kostenlose Energieberatung 
 interessieren oder auch als ehrenamtliche Energiesparberater*in aktiv sein
  wollen\, melden Sie sich unter: energiecheck@bund-berlin.de oder telefoni
 sch unter (0)30 - 78 79 00-33. Mehr Infos und DIY-Anleitungen auf unserer 
 Website www.berliner-energiecheck.de\n\nViel Spass wünscht Gratis-in-Berlin\n\n
 Link zum Tip: \nZu den Gratis-in-Berlin Angeboten: http://www.gratis-in-be
 rlin.de\n
DTSTART;VALUE=DATE:20231128
DTEND;VALUE=DATE:20231129
SUMMARY:Workshop 'Heizung optimieren'\, um Heizverbräuche zu senken
END:VEVENT
END:VCALENDAR
