BEGIN:VCALENDAR
VERSION:2.0
PRODID:-//Gratis-in-Berlin//NONSGML kigkonsult.se iCalcreator 2.14//
METHOD:PUBLISH
X-WR-CALNAME:Gratis-in-Berlin Tip Kalender
X-WR-CALDESC:Erhalte Gratis-in-Berlin Tips in deinem Kalender
BEGIN:VEVENT
UID:20260424T114520UTC-5089vVC6dn@Gratis-in-Berlin
DTSTAMP:20260424T114520Z
DESCRIPTION:Vortrag und Diskussion: 'Niemand war zu Recht im KZ? - Die späte 
 Anerkennung der sogenannten ?Berufsverbrecher? und ?Asozialen? als Opfergr
 uppe des NationalsozialismusMit: Walter Nonnenmacher\, Dr. Kai Lindemann (
 BALZ Berliner Arbeitslosnzentrum)Mittwoch\, 22. November 2023\, 18:00 - 20
 :00 Uhr Passionskirche\, Marheinekeplatz 1\, 10961 Berlin\n\nViel Spass wünscht
  Gratis-in-Berlin\n\nLink zum Tip: \nZu den Gratis-in-Berlin Angeboten: ht
 tp://www.gratis-in-berlin.de\n
DTSTART;VALUE=DATE:20231122
DTEND;VALUE=DATE:20231123
SUMMARY:'Niemand war zu Recht im KZ? / ?Berufsverbrecher? und ?Asoziale? al
 s Opfergruppe des Nationalsozialismus
END:VEVENT
END:VCALENDAR
