BEGIN:VCALENDAR
VERSION:2.0
PRODID:-//Gratis-in-Berlin//NONSGML kigkonsult.se iCalcreator 2.14//
METHOD:PUBLISH
X-WR-CALNAME:Gratis-in-Berlin Tip Kalender
X-WR-CALDESC:Erhalte Gratis-in-Berlin Tips in deinem Kalender
BEGIN:VEVENT
UID:20260420T080618UTC-4933EaOXPZ@Gratis-in-Berlin
DTSTAMP:20260420T080618Z
DESCRIPTION:Prof. Dr. Oliver Arránz Becker: 'Subjektive Gesundheit und gesund
 heitliche Ungleichheit in Ost- und Westdeutschland: Entwicklungen nach der
  Wende im Generationenvergleich' ? Öffentlicher Vortrag im Rahmen der Reihe
  ?Generation Wende: Gesundheit nach Zeiten des Umbruchs?\nZum Vortrag: \n 
 Die deutsche Wiedervereinigung wird in der wissenschaftlichen Literatur häuf
 ig als einer der seltenen Fälle eines realen ?Gesellschaftsexperiments? unte
 rsucht: Die zwei sehr unterschiedlichen politischen und wirtschaftlichen S
 ysteme DDR und BRD\, die jeweils ihre eigenen sozio-kulturellen Traditione
 n und Formen des Soziallebens hervorgebracht haben\, wurden ab 1990 in rel
 ativ kurzer Zeit fusioniert. Abgesehen davon\, dass einige sozioökonomische U
 nterschiede zwischen Ost- und Westdeutschland\, z.B. in den Einkommen\, bi
 s heute fortbestehen\, wurden die politisch-wirtschaftlichen Rahmenbedingu
 ngen weitgehend angeglichen. Dieser Umbruch hat allerdings die verschieden
 en Generationen in sehr unterschiedlichen Lebensphasen getroffen.Vor diese
 m Hintergrund soll im Vortrag anhand von empirischen Analysen die Frage be
 leuchtet werden\, wie sich die gesundheitlichen Selbsteinschätzungen von Ost
 - und Westdeutschen unterschiedlicher Geburtsjahrgänge seit der Wende im Ver
 gleich entwickelt haben. Dabei können verschiedene Hypothesen aufgestellt wer
 den: Zum einen ist denkbar\, dass sich aufgrund der Angleichung der Lebens
 bedingungen und des Gesundheitssystems auch der subjektive Gesundheitszust
 and von Ost- und Westdeutschen zunehmend angeglichen hat\; zum anderen sin
 d hier allerdings die Auswirkungen von psychischen Belastungen in Folge ma
 ssenhafter biographischer Neuorientierungen in Ostdeutschland in der Nachw
 endezeit in Rechnung zu stellen. Daneben kann vermutet werden\, dass sich 
 auch das Ausmaß gesundheitlicher Ungleichheit in Ost- bzw. Westdeutschland 
 angeglichen hat\, was eine zunehmend ungleiche Verteilung von guter vs. sc
 hlechter Gesundheit in Ostdeutschland im Zeitverlauf implizieren würde.Anhand w
 issenschaftlicher Analysen sollen im Vortrag diese verschiedenen Hypothese
 n anhand empirischer Befunde diskutiert und geprüft werden.Über den Referenten:P
 rof. Arránz Becker ist Psychologe und Soziologe. Seit 2015 forscht und lehrt
  er an der Martin-Luther-Universität Halle-Wittenberg zu verschiedenen Theme
 n im Schnittbereich zwischen Psychologie und Soziologie\, insbesondere in 
 Verknüpfung von Demographie und Gesundheitsforschung. Dazu gehören etwa der Einflu
 ss einer Eheschließung auf die Gesundheit sowie die Rolle des elterlichen B
 ildungshintergrunds für die Gesundheit der erwachsenen Kinder im Lebensverlauf.
 Über die Vortragsreihe:  Mit der deutschen Wiedervereinigung begann vor all
 em für Menschen in Ostdeutschland ein rasanter gesellschaftlicher Wandel\, der 
 viele Bereiche ihres Alltagslebens umfasste. Welche gesundheitlichen Folge
 n dieser Wandel hatte\, wurde erst in jüngster Zeit systematisch und umfassend 
 untersucht. Im Rahmen der Vortragsreihe ?Generation Wende: Gesundheit nach
  Zeiten des Umbruchs? sind im Wintersemester Wissenschaftlerinnen zu Gast 
 an der Psychologischen Hochschule Berlin (PHB)\, die eigene Forschungserge
 bnisse zu diesem Thema vorstellen. Die Semesterreihe ist Teil der übergeordnete
 n Vorlesungsreihe ?Psychologie &amp\; Gesellschaft?\, die die PHB seit meh
 reren Jahren in Kooperation mit der Sektion Politische Psychologie des Ber
 ufsverbandes Deutscher Psychologinnen und Psychologen (BDP) ausrichtet.\n
 \nViel Spass wünscht Gratis-in-Berlin\n\nLink zum Tip: \nZu den Gratis-in-Berli
 n Angeboten: http://www.gratis-in-berlin.de\n
DTSTART;VALUE=DATE:20231101
DTEND;VALUE=DATE:20231102
SUMMARY:Subjektive Gesundheit und gesundheitliche Ungleichheit in Ost- und 
 Westdeutschland: Entwicklungen nach der Wende
END:VEVENT
END:VCALENDAR
