BEGIN:VCALENDAR
VERSION:2.0
PRODID:-//Gratis-in-Berlin//NONSGML kigkonsult.se iCalcreator 2.14//
METHOD:PUBLISH
X-WR-CALNAME:Gratis-in-Berlin Tip Kalender
X-WR-CALDESC:Erhalte Gratis-in-Berlin Tips in deinem Kalender
BEGIN:VEVENT
UID:20260419T183333UTC-6500014UtX@Gratis-in-Berlin
DTSTAMP:20260419T183333Z
DESCRIPTION:Ausstellung ?Das Romanische Café im Berlin der 1920er-Jahre? am O
 riginalschauplatz im Erdgeschoss am Atrium des Europa Centers.&nbsp\;Mittw
 och - Montag 12-19 Uhr (statt 19.30\, Danke für Kommentar!)Auf 130 Quadratmeter
 n erzählt die Pop-up-Ausstellung über das legendäre Romanische Café\, wer es besuchte
  und welche Rolle das Café und sein Umfeld in den ?goldenen? 1920er-Jahren i
 m Berlin der Weimarer Republik spielten. Die Ausstellungsinszenierung umfa
 sst Alltagsgegenstände\, Fotos\, Texte\, Filmausschnitte und eine 3-D-Simula
 tion. Die Schaufenster der Ausstellung locken unter anderem mit einem Char
 leston-Tanzkursvideo und einem Blick auf die Umgebung der Gedächtniskirche d
 amals und heute. An einem Originaltisch mit Stühlen können die Ausstellungsbesuche
 r:innen Platz nehmen\, als säßen sie auf der Terrasse des Romanischen Cafés. I
 m Zentrum der Ausstellung kann die/der Besucher:in in das Romanische Café al
 s Erlebnisraum eintauchen. Mit zeitgenössischen Darstellungen des Cafés und sei
 ner Gäste in Malerei\, Grafik\, Presse\, Literatur und Musik wird das Café als
  Anziehungspunkt der kulturellen Avantgarde der 1920er-Jahre lebendig. Ein
 ige der Exponate werden erstmals öffentlich präsentiert.Quelle Pressemeldung Be
 zirksamtAn jedem Freitag und Samstag 13:00 ? 18:00 UhrAuch an allen Advent
 s-Sonntagen 2025 geöffnet.Herzlichen Dank für den Kommentar-Hinweis!\n\nViel Spass
  wünscht Gratis-in-Berlin\n\nLink zum Tip: \nZu den Gratis-in-Berlin Angeboten:
  http://www.gratis-in-berlin.de\n
DTSTART;VALUE=DATE:20240106
DTEND;VALUE=DATE:20251222
SUMMARY:Das Romanische Café im Stil der 20er (Fr\, Sa & Adventssonntage)
END:VEVENT
END:VCALENDAR
