BEGIN:VCALENDAR
VERSION:2.0
PRODID:-//Gratis-in-Berlin//NONSGML kigkonsult.se iCalcreator 2.14//
METHOD:PUBLISH
X-WR-CALNAME:Gratis-in-Berlin Tip Kalender
X-WR-CALDESC:Erhalte Gratis-in-Berlin Tips in deinem Kalender
BEGIN:VEVENT
UID:20260424T142729UTC-1838pV8IGI@Gratis-in-Berlin
DTSTAMP:20260424T142729Z
DESCRIPTION:Im Workshop werden einfache Techniken vorgestellt\, mit denen L
 öcher geflickt\, Nähte verstärkt und kreative\, sichtbare Reparaturen umgesetzt w
 erden können.10 Plätze für alle ab 14 Jahren stehen zur Verfügung!Anmeldung per Mail an s
 tabi-bzb@ba-ts.berlin.de\, telefonisch unter (030) 90277-6136 oder persönlich
  an der Servicetheke in der Bezirkszentralbibliothek Tempelhof-Schöneberg.\n
 \nViel Spass wünscht Gratis-in-Berlin\n\nLink zum Tip: \nZu den Gratis-in-Berli
 n Angeboten: http://www.gratis-in-berlin.de\n
DTSTART;VALUE=DATE:20260428
DTEND;VALUE=DATE:20260429
SUMMARY:Gürteltaschen - Nähen für Anfänger_innen
END:VEVENT
END:VCALENDAR
