BEGIN:VCALENDAR
VERSION:2.0
PRODID:-//Gratis-in-Berlin//NONSGML kigkonsult.se iCalcreator 2.14//
METHOD:PUBLISH
X-WR-CALNAME:Gratis-in-Berlin Tip Kalender
X-WR-CALDESC:Erhalte Gratis-in-Berlin Tips in deinem Kalender
BEGIN:VEVENT
UID:20260421T094711UTC-1821Xj0T1W@Gratis-in-Berlin
DTSTAMP:20260421T094711Z
DESCRIPTION:ZUKUNFTSBOX MEERE KENNENLERNENDer nachhaltige Umgang mit den Me
 eren\, Küsten und Ozeanen ist eine große Herausforderung\, die uns alle angeht. 
 Sichtbares Zeichen dafür ist der Plastikmüll\, der an unsere Badestrände geschwemmt wi
 rd oder verölte Seevögel nach einem Tankerunfall.Wie wollen wir mit den Meeren l
 eben? Wie können wir mit den Meeren\, Küsten und Ozeanen so nachhaltig umgehen\, d
 ass wir unsere natürlichen Lebensgrundlagen sichern? Wie gestalten wir eine wünschen
 swerte Zukunft auf unserem ?blauen Planeten??In diesem Workshop kannst du 
 dich mit anderen Workshop-Teilnehmenden über Ideen für eine nachhaltige Zukunft unse
 rer Meere austauschen und gemeinsam kreative Impulse und Visionen entwicke
 ln.Im Workshop nutzen wir dafür die Zukunftsbox zum Thema Meere\, welche die De
 utsche Allianz für Meeresforschung (DAM) mit Unterstützung des Futuriums für das Ocean Fu
 ture Lab entwickelt hat.Die Zukunftsbox gibt es digital hier zum Download:
  https://cloud.futurium.de/own.../index.php/s/fjKfrerPE383thdINFORMATIONEN
 -&gt\;Veranstaltungsort: Vor-Ort-Veranstaltung im Workshopbereich des Futu
 rium-Labs-&gt\;Der Eintritt ist kostenfrei.-&gt\;Veranstaltungssprache: De
 utsch-&gt\;Max. Teilnehmer*innenzahl: 20 Personen-&gt\;Die Veranstaltung r
 ichtet sich an Erwachsene ab 16 Jahren-&gt\;Eine Anmeldung ist erforderlic
 h ? sichere dir deinen Platz!-&gt\;Die Anmeldung ist ein Zwei-Schritte-Ver
 fahren. Nach Eingabe deiner persönlichen Daten erhältst du eine E-Mail mit eine
 m -&gt\;Bestätigungslink. Dieser ist 30 Minuten aktiv. Erst nachdem du diese
 n Link geklickt und online bestätigt hast\, ist deine Anmeldung vollständig.ZU
 GÄNGLICHEKIT-&gt\;Wir sind ein rollstuhlgerechter Veranstaltungsort.Zukunft
  ist für alle da! Das Futurium möchte für alle Menschen zugänglich sein.Wenn es eurerseit
 s weitere Zugangsbedürfnisse gibt\, teilt sie uns gern mit. Wir versuchen\, sie
  zu erfüllen: info@futurium.deHier findet ihr alle Informationen zur Barrierefr
 eiheit: https://futurium.de/de/barrierefreiheitFOTO &amp\; VIDEOWährend der 
 Veranstaltung werden Fotos gemacht.Wenn ihr nicht abgebildet werden wollt\
 , meldet euch bitte vorab.TICKETSFür diese Veranstaltung benötigt ihr ein Ticket. 
 Hier zum Ticketshop:27.09. : https://tickets.futurium.de/...\n\nViel Spass
  wünscht Gratis-in-Berlin\n\nLink zum Tip: https://www.gratis-in-berlin.de/kale
 nder/item/2066136-mit-meeren-leben-aber-wie\nZu den Gratis-in-Berlin Angeb
 oten: http://www.gratis-in-berlin.de\n
DTSTART;VALUE=DATE:20240927
DTEND;VALUE=DATE:20240928
SUMMARY:Mit Meeren leben\, aber wie?
END:VEVENT
END:VCALENDAR
