BEGIN:VCALENDAR
VERSION:2.0
PRODID:-//Gratis-in-Berlin//NONSGML kigkonsult.se iCalcreator 2.14//
METHOD:PUBLISH
X-WR-CALNAME:Gratis-in-Berlin Tip Kalender
X-WR-CALDESC:Erhalte Gratis-in-Berlin Tips in deinem Kalender
BEGIN:VEVENT
UID:20260419T201808UTC-4668doRupR@Gratis-in-Berlin
DTSTAMP:20260419T201808Z
DESCRIPTION:Artenschutz in der Stadt ? Insekten und Vögel mit Nisthilfen unter
 stützenBerlin gehört als grüne Metropole zu den artenreichsten Städten Europas: Hier lebe
 n viele vom Aussterben bedrohten Vögel- und Insektenarten. Sie benötigen auch in
  der Stadt Brut- und Verweilmöglichkeiten in Form von Nisthilfen.Das Netzwerk
 treffen der UmWeltfrauen bietet Infos und Austausch zu den Fragen:Welche V
 ogel- und Insektenarten gibt es in Berlin?Wie können sie im städtischen Raum be
 sser geschützt werden?Welche Nisthilfen sind an besten für Vögel und Insekten geeign
 et?Was ist die Besonderheiten der Stadtnatur?Welche gesetzlichen Grundlage
 n gibt es für den Naturschutz?Wie kann ich mich privat oder beruflich in Berlin
  für den Naturschutz engagieren?Nach dem theoretischen Input bauen wir gemeinsa
 m in der Werkstatt einfache Nisthilfen für Vögel und Insekten.TeilnahmeDie Vera
 nstaltung ist kostenfrei. Du kannst ohne Anmeldung teilnehmen. Eingeladen 
 sind Frauen aus allen Kulturen. Kinder sind ebenfalls herzlich willkommen.
 Wenn du Fragen hast\, schreibe uns eine Mail: umweltfrauen@life-online.de 
 oder kontaktiere uns per Mobiltelefon: 0157 58151409.Die Veranstaltung fin
 det im Rahmen des Projektes Ökothek statt.Die UmWeltfrauen ? Frauen für ein bess
 eres Klima ? sind ein Netzwerk für Frauen aus allen Kulturen mit Interesse an U
 mwelt- und Klimaschutz.\n\nViel Spass wünscht Gratis-in-Berlin\n\nLink zum Tip:
  \nZu den Gratis-in-Berlin Angeboten: http://www.gratis-in-berlin.de\n
DTSTART;VALUE=DATE:20240527
DTEND;VALUE=DATE:20240528
SUMMARY:Naturschutz in Berlin ? Artenschutz durch Nisthilfen für Insekten und Vögel
  (für Frauen)
END:VEVENT
END:VCALENDAR
