BEGIN:VCALENDAR
VERSION:2.0
PRODID:-//Gratis-in-Berlin//NONSGML kigkonsult.se iCalcreator 2.14//
METHOD:PUBLISH
X-WR-CALNAME:Gratis-in-Berlin Tip Kalender
X-WR-CALDESC:Erhalte Gratis-in-Berlin Tips in deinem Kalender
BEGIN:VEVENT
UID:20260420T161238UTC-8637NRXvFP@Gratis-in-Berlin
DTSTAMP:20260420T161238Z
DESCRIPTION:Wir möchten mit euch zusammen durch den Volkspark Friedrichshain l
 aufen und gemeinsam die Extremwetterlagen sowie die Auswirkungen des Klima
 wandels auf unsere heimische Fauna und Flora beobachten\, Aber es soll auc
 h um Maßnahmen gehen\, wie wir unsere Umwelt schützen und bei der Regeneration u
 nterstützen können. Was tut das Bezirksamt um den Volkspark Friedrichshain als Hei
 mat für Artenvielfalt zu erhalten?Hierzu möchten wir\, die Omas &amp\; Opas for Fu
 ture\, dem RuDi Nachbarschaftszentrum und dem Stadtteilzentrum Friedrichsh
 ain\, euch einladen mit uns gemeinsam den Volkspark mit neuen Augen zu seh
 en. Wir treffen uns um 16 Uhr am Märchenbrunnen.Im Anschluss habt ihr die Ch
 ance bei einem gemeinsamen Essen gegen Spende im Stadtteilzentrum miteinan
 der auszutauschen und noch offene Fragen zu klären.Bei Unklarheiten oder Rückfrag
 en könnt ihr euch gern unter stz-friedrichshain@volkssolidaritaet.de oder 030
 /403 66 11 27 zu melden.\n\nViel Spass wünscht Gratis-in-Berlin\n\nLink zum Tip
 : \nZu den Gratis-in-Berlin Angeboten: http://www.gratis-in-berlin.de\n
DTSTART;VALUE=DATE:20240827
DTEND;VALUE=DATE:20240828
SUMMARY:Spaziergang: Klimawandel und die heimische Fauna & Flora
END:VEVENT
END:VCALENDAR
