BEGIN:VCALENDAR
VERSION:2.0
PRODID:-//Gratis-in-Berlin//NONSGML kigkonsult.se iCalcreator 2.14//
METHOD:PUBLISH
X-WR-CALNAME:Gratis-in-Berlin Tip Kalender
X-WR-CALDESC:Erhalte Gratis-in-Berlin Tips in deinem Kalender
BEGIN:VEVENT
UID:20260420T145420UTC-0073wv2d2v@Gratis-in-Berlin
DTSTAMP:20260420T145420Z
DESCRIPTION:Das Ministerium für Staatssicherheit war Geheimpolizei und Auslandsg
 eheimdienst zugleich. Oftmals wird ihre Auslandsaufklärung auch als die dama
 ls ?beste der Welt? bezeichnet. Markus Wolf\, Chef der HV A und für westliche D
 ienste lange 'der Mann ohne Gesicht'\, oder die ?Rosenholz?-Karteien trage
 n auch heute noch einen Nimbus des Geheimen. Das liegt nicht zuletzt daran
 \, dass viele Unterlagen - und damit auch Beweise - über die ?Westarbeit? der S
 tasi in den Jahren 1989/90 vernichtet wurden.Trotzdem ist es heute noch vi
 elfach möglich\, Informationen über die Anzahl von Spionen\, die Qualität ihrer Beri
 chte und deren Weiterbearbeitung zu finden. Die Führung spürt der DDR-Auslandsaufkläru
 ng nach und zeigt auf\, in welchen Beständen des Stasi-Unterlagen-Archivs si
 ch noch Material zu diesem spannenden Kapitel des Kalten Krieges finden läss
 t.Im Anschluss an die Führung können Sie die Beispielaktensammlung des Stasi-Unter
 lagen-Archivs besuchen und direkt vor Ort einen Antrag auf Akteneinsicht s
 tellen.Die Veranstaltung ist kostenlos. Die Anzahl der Teilnehmenden ist a
 uf 15 Personen beschränkt. Eine Voranmeldung ist möglich unter: besuch.stasiunt
 erlagenarchiv@bundesarchiv.de oder telefonisch unter 030 18 665-6699.\n\nV
 iel Spass wünscht Gratis-in-Berlin\n\nLink zum Tip: https://www.gratis-in-berli
 n.de/wissen-live/item/2068841-stasi-und-westspionage\nZu den Gratis-in-Ber
 lin Angeboten: http://www.gratis-in-berlin.de\n
DTSTART;VALUE=DATE:20241007
DTEND;VALUE=DATE:20241008
SUMMARY:Stasi und Westspionage
END:VEVENT
END:VCALENDAR
