BEGIN:VCALENDAR
VERSION:2.0
PRODID:-//Gratis-in-Berlin//NONSGML kigkonsult.se iCalcreator 2.14//
METHOD:PUBLISH
X-WR-CALNAME:Gratis-in-Berlin Tip Kalender
X-WR-CALDESC:Erhalte Gratis-in-Berlin Tips in deinem Kalender
BEGIN:VEVENT
UID:20260420T083253UTC-1299rgbBLa@Gratis-in-Berlin
DTSTAMP:20260420T083253Z
DESCRIPTION:Beim genaueren Hinsehen spiegelt das Bezirksbild Pankows noch h
 eute viel seiner DDR-Vergangenheit wider: So können wir noch immer einen Blic
 k auf ehemalige Botschaftsgebäude werfen und ein Stück der damaligen Protokollstr
 ecken entlanggehen. Unterwegs beschäftigen wir uns ebenso mit der Rolle der 
 Opposition und beleuchten Biografien von in Pankow ansässigen Künstler:innen. Nic
 ht zuletzt werden einige Wohnsitze von Mitgliedern der DDR-Regierung aufge
 sucht - eine Zeitreise.\n\nViel Spass wünscht Gratis-in-Berlin\n\nLink zum Tip:
  https://www.gratis-in-berlin.de/kalender/item/2070268-pankow-in-der-ddr-z
 eit\nZu den Gratis-in-Berlin Angeboten: http://www.gratis-in-berlin.de\n
DTSTART;VALUE=DATE:20250315
DTEND;VALUE=DATE:20250316
SUMMARY:Pankow in der DDR-Zeit
END:VEVENT
END:VCALENDAR
