BEGIN:VCALENDAR
VERSION:2.0
PRODID:-//Gratis-in-Berlin//NONSGML kigkonsult.se iCalcreator 2.14//
METHOD:PUBLISH
X-WR-CALNAME:Gratis-in-Berlin Tip Kalender
X-WR-CALDESC:Erhalte Gratis-in-Berlin Tips in deinem Kalender
BEGIN:VEVENT
UID:20260419T130813UTC-2968CU4VdJ@Gratis-in-Berlin
DTSTAMP:20260419T130813Z
DESCRIPTION:Digitale Sprechstunde für Android-Smartphones und Tablets in der Hum
 boldt-Bibliothek!Sie sind 60 Jahre oder älter und haben Fragen zu ihrem Smar
 tphone oder ihrem Tablet? Dann sind Sie bei uns genau richtig!&nbsp\;Ohne 
 vorherige Anmeldung! Ab dem 28.01.2025 von 16 - 17:30 Uhr.\n\nViel Spass w
 ünscht Gratis-in-Berlin\n\nLink zum Tip: https://www.gratis-in-berlin.de/kalend
 er/item/2070795-digitale-sprechstunde-fuer-die-generation\nZu den Gratis-i
 n-Berlin Angeboten: http://www.gratis-in-berlin.de\n
DTSTART;VALUE=DATE:20250701
DTEND;VALUE=DATE:20250702
SUMMARY:Digitale Sprechstunde für die Generation+
END:VEVENT
END:VCALENDAR
