BEGIN:VCALENDAR
VERSION:2.0
PRODID:-//Gratis-in-Berlin//NONSGML kigkonsult.se iCalcreator 2.14//
METHOD:PUBLISH
X-WR-CALNAME:Gratis-in-Berlin Tip Kalender
X-WR-CALDESC:Erhalte Gratis-in-Berlin Tips in deinem Kalender
BEGIN:VEVENT
UID:20260419T145147UTC-0757S0P78u@Gratis-in-Berlin
DTSTAMP:20260419T145147Z
DESCRIPTION:Auf eine Brezel\, auf ein Wort. Deutschlandfunk Kultur lädt Sie e
 in zur Live-Radioshow aus dem Humboldt Forum in Berlin. Seien Sie dabei\, 
 wenn wir einen prominenten Gast aus Kultur\, Wissenschaft\, Medien oder de
 r Politik in der Mechanischen Arena begrüßen. Gemeinsam ein engagiertes Gespräch 
 über die Fragen unserer Zeit führen. Plaudern\, streiten oder gemeinsam laut nachden
 ken.Hier erleben Sie Radio ganz nah\, zum Zuschauen und auch zum Mitdiskut
 ieren. Ein engagiertes Gespräch über die Themen des Tages\, ausgestrahlt in die g
 anze Republik\, gemacht in der neuen alten Mitte Berlins\, im Humboldt For
 um.Pinar Atalay ist eine der bekanntesten deutschen Fernsehmoderatorinnen.
  Nach vielen Jahren bei der ARD\, in der sie unter anderem die ?Tagestheme
 n? und das Wirtschaftsmagazin ?Plusminus? präsentiert hat\, ist die 46-Jährige
  seit 2021 beim Sender RTL. Hier begrüßt sie die Zuschauer als Hauptmoderatorin
  von ?RTL direkt?. Zusammen mit Günther Jauch wird die Journalistin im Februar 
 Gastgeberin sein\, wenn im TV-Duell Olaf Scholz und Friedrich Merz aufeina
 ndertreffen.- kostenfrei- von 11.50 Uhr bis 13 Uhr (Beginn der Live-Sendun
 g um 12.05 Uhr)- Dauer: 70 Minuten- Sprache: Deutsch- Ort im Humboldt Foru
 m: Mechanische Arena im Foyer in Berlin\n\nViel Spass wünscht Gratis-in-Berlin
 \n\nLink zum Tip: \nZu den Gratis-in-Berlin Angeboten: http://www.gratis-i
 n-berlin.de\n
DTSTART;VALUE=DATE:20250116
DTEND;VALUE=DATE:20250117
SUMMARY:Studio 9. Der Tag mit Pinar Ataley. Deutschlandfunk Kultur ? live a
 us dem Humboldt Forum
END:VEVENT
END:VCALENDAR
