BEGIN:VCALENDAR
VERSION:2.0
PRODID:-//Gratis-in-Berlin//NONSGML kigkonsult.se iCalcreator 2.14//
METHOD:PUBLISH
X-WR-CALNAME:Gratis-in-Berlin Tip Kalender
X-WR-CALDESC:Erhalte Gratis-in-Berlin Tips in deinem Kalender
BEGIN:VEVENT
UID:20260419T120950UTC-9966WtnIBa@Gratis-in-Berlin
DTSTAMP:20260419T120950Z
DESCRIPTION:Viele Linke tun sich schwer\, der Ukraine in ihrem Verteidigung
 skampf gegen Russlands zerstörerischen Angriffskrieg solidarisch beizustehen.
  Manche gehen so weit\, dass sie russische Narrative unhinterfragt übernehmen. 
 Andere argumentieren\, dass Aufrüstung in Deutschland und Europa die Rüstungsindustr
 ie stärkt und mit einer Kriegsgefahr über die Grenzen der Ukraine hinaus einherge
 ht. Der Austausch mit linken ukrainischen Perspektiven kommt zu kurz oder 
 findet gar nicht erst statt.Der ukrainische Anarchist\, Menschenrechtler\,
  ehemalige Soldat und Kriegsgefangene Maksym Butkevych berichtet von seine
 n Beweggründen\, sich zur Armee zu melden und seinen Erfahrungen in Kriegsgefan
 genschaft und Lagerhaft. Er beschreibt die Konsequenzen\, die er aus seine
 n politischen und persönlichen Erfahrungen zieht und legt dar\, warum es für ihn k
 eine Option sein kann\, die Ukraine sich selbst zu überlassen.Die Veranstaltung
  wird in englischer Sprache durchgeführt.Datum: 22.05.2025\, 19:00-21:30 UhrVer
 anstaltungsort: aquarium (neben Südblock)\, Skalitzer Str. 6\, 10999 BerlinDie 
 Teilnahme ist kostenfrei! Um Anmeldung wird gebeten.\n\nViel Spass wünscht Grat
 is-in-Berlin\n\nLink zum Tip: https://www.gratis-in-berlin.de/wissen-live/
 item/2072294-ein-friedensaktivist-im-krieg\nZu den Gratis-in-Berlin Angebo
 ten: http://www.gratis-in-berlin.de\n
DTSTART;VALUE=DATE:20250522
DTEND;VALUE=DATE:20250523
SUMMARY:Ein Friedensaktivist im Krieg
END:VEVENT
END:VCALENDAR
