BEGIN:VCALENDAR
VERSION:2.0
PRODID:-//Gratis-in-Berlin//NONSGML kigkonsult.se iCalcreator 2.14//
METHOD:PUBLISH
X-WR-CALNAME:Gratis-in-Berlin Tip Kalender
X-WR-CALDESC:Erhalte Gratis-in-Berlin Tips in deinem Kalender
BEGIN:VEVENT
UID:20260421T142357UTC-6694Mbs1FA@Gratis-in-Berlin
DTSTAMP:20260421T142357Z
DESCRIPTION:Kleingärtner*innen kennen es ? Humusaufbau ist gut fürs Klima und hilf
 t gleichzeitig beim Anbau von Pflanzen. Neben den Ozeanen ist der Boden ei
 ne wichtige Ressource\, um Kohlenstoff zu bündeln. In diesem Online-Seminar erf
 ahrt ihr von den Herausforderungen beim Aufbau von Humus und wie unterschi
 edliche Gruppen ihren Nutzen daraus ziehen wollen. Konkret beleuchten wir 
 den Zertifikate-Handel zur Kompensation von Treibhausgasen verschiedener A
 kteur*innen (Privatpersonen\, öffentlichen Einrichtungen und Unternehmen) mit
 hilfe der Landwirtschaft. In diesem Seminar bekommt ihr außerdem einen Einb
 lick in die Problematiken von Humus-Zertifikaten im Allgemeinen. Wir gehen
  der Frage auf den Grund\, wie das Label ?klimaneutral? verwendet wird und
  welche Risiken sich hinter einem solchen Label verbergen.Das Seminar rich
 tet sich an erwachsene Personen.Anmeldung auf unserer Website!Das Projekt 
 Klima-Acker 2.0 wird von der Senatsverwaltung für Justiz und Verbraucherschutz 
 gefördert.\n\nViel Spass wünscht Gratis-in-Berlin\n\nLink zum Tip: \nZu den Gratis
 -in-Berlin Angeboten: http://www.gratis-in-berlin.de\n
DTSTART;VALUE=DATE:20250519
DTEND;VALUE=DATE:20250520
SUMMARY:Online Seminar: Der Kohlenstoff vom Fabrikband in den Ackerboden?
END:VEVENT
END:VCALENDAR
