BEGIN:VCALENDAR
VERSION:2.0
PRODID:-//Gratis-in-Berlin//NONSGML kigkonsult.se iCalcreator 2.14//
METHOD:PUBLISH
X-WR-CALNAME:Gratis-in-Berlin Tip Kalender
X-WR-CALDESC:Erhalte Gratis-in-Berlin Tips in deinem Kalender
BEGIN:VEVENT
UID:20260422T124526UTC-524707Nihl@Gratis-in-Berlin
DTSTAMP:20260422T124526Z
DESCRIPTION:1x im Monat treffen sich viele Menschen im RegenbogenKino\, um 
 sich über den erstarkenden Rechtsruck auszutauschen und sich als solidarische N
 achbar*innenschaften in solidarischen Kiezen dagegen zu organisieren.Neben
  dem Weiterspinnen unserer praktischen Ideen werden wir über unsere gemeinsamen
  Ziele diskutieren. Kommt gerne vorbei und bringt euch\, eure Möglichkeiten u
 nd eure Erfahrungen und Ideen ein. Wenn wir viele sind\, können wir klar und 
 deutlich machen\, dass rechtes Gedankengut in Kreuzberg und überall sonst keine
 n Platz hat. Bringt gerne eure Freund*innen mit und verbreitet gerne diese
  Einladung.Sie kommen nicht durch ? ¡No Pasarán!\n\nViel Spass wünscht Gratis-in-B
 erlin\n\nLink zum Tip: \nZu den Gratis-in-Berlin Angeboten: http://www.gra
 tis-in-berlin.de\n
DTSTART;VALUE=DATE:20250622
DTEND;VALUE=DATE:20250623
SUMMARY:'Kreuzberg gegen Rechts' - Offenes Vernetzungstreffen im Regenbogen
 Kino
END:VEVENT
END:VCALENDAR
