BEGIN:VCALENDAR
VERSION:2.0
PRODID:-//Gratis-in-Berlin//NONSGML kigkonsult.se iCalcreator 2.14//
METHOD:PUBLISH
X-WR-CALNAME:Gratis-in-Berlin Tip Kalender
X-WR-CALDESC:Erhalte Gratis-in-Berlin Tips in deinem Kalender
BEGIN:VEVENT
UID:20260420T085257UTC-576032nM9g@Gratis-in-Berlin
DTSTAMP:20260420T085257Z
DESCRIPTION:Die Verbraucherzentrale Berlin zu Gast auf dem Gartenfest des S
 tadtteilzentrums PankowTanz\, Spiel und kreativen Aktionen ? und Informati
 onen rund ums Retten von Lebensmitteln. Das sind die Zutaten für das Gartenfest
  des Stadtteilzentrums Pankow. Das Projekt 'Berlin is(s)t klimafreundlich'
  sensibilisiert gemeinsam mit der Initiative foodsharing für den bewussten Umga
 ng mit Lebensmitteln aus ökologischer\, ethischer und zunehmend auch aus fina
 nzieller Sicht. Jede*r von uns wirft etwa 78 Kilogramm Lebensmittel im Jah
 r weg\, wovon schätzungsweise die Hälfte vermeidbar wäre. Am Stand erwarten Sie 
 Tipps zur richtigen Lagerung von Obst und Gemüse\, Sie lernen Reste-Rezepte ken
 nen und was man auch aus hartem Brot noch zubereiten kann. Reste komplett 
 zu verwerten\, spart Geld und ist eine wunderbare Möglichkeit\, der Verschwen
 dung entgegenzuwirken. Werden auch Sie zum*r Lebensmittelretter*in!\n\nVie
 l Spass wünscht Gratis-in-Berlin\n\nLink zum Tip: https://www.gratis-in-berlin.
 de/dauerbrenner/24-wissen-live/2073218-infostand-lebensmittelrettung\nZu d
 en Gratis-in-Berlin Angeboten: http://www.gratis-in-berlin.de\n
DTSTART;VALUE=DATE:20250716
DTEND;VALUE=DATE:20250717
SUMMARY: Infostand Lebensmittelrettung
END:VEVENT
END:VCALENDAR
