BEGIN:VCALENDAR
VERSION:2.0
PRODID:-//Gratis-in-Berlin//NONSGML kigkonsult.se iCalcreator 2.14//
METHOD:PUBLISH
X-WR-CALNAME:Gratis-in-Berlin Tip Kalender
X-WR-CALDESC:Erhalte Gratis-in-Berlin Tips in deinem Kalender
BEGIN:VEVENT
UID:20260419T145236UTC-2794i9BSW8@Gratis-in-Berlin
DTSTAMP:20260419T145236Z
DESCRIPTION:Ein Gespräch über RepressionDie Aktivistin Ella wurde bei der Rodung d
 es Dannenröder Waldes im Jahr 2020 von kletternden Polizisten in schwindelerr
 egender Höhe gewaltsam von einer Traverse gezerrt.Danach wurde Ella beschuldi
 gt\, die Beamten angegriffen zu haben.Ella verbrachte 1\,5 Jahre im Gefängni
 s und hat ein Buch über diese Erfahrung geschrieben\; sie wird Themen aus ihrem
  kürzlich übersetzten Buch ?Gefangenschaft überwinden? vorstellen.Die Repression gegen so
 ziale Bewegungen nimmt weiter zu.Proteste werden kriminalisiert\, Aktivist
 :innen eingeschüchtert und Besetzungen in Wäldern und Universitäten brutal gerodet.
 Gemeinsam mit Ella und anderen Aktivist:innen wollen wir diskutieren\, wie
  wir mit Repression umgehen können.BIS ALLE FREI SIND!*****************Impris
 onment is for BurningA Talk about RepressionTuesday\, 1st\, July 25 | Entr
 y 6:30 pm\, Start 7 pm | RegenbogenKinoThe activist Ella was violently dra
 gged from a traverse at a dizzying height by climbing police officers duri
 ng the clearing of the Dannenröder Forest in 2020.After this Ella was accused
  of attacking the officers. Ella spent 1.5 years in prison and has written
  a book about this experience.Ella will offer topics from their recently t
 ranslated book ?Gefangenschaft überwinden?.Repression against social movements 
 continues to increase. Protests are criminalised\, activists intimidated a
 nd occupations in forests and universities brutally cleared.Together with 
 Ella and other activists\, we want to discuss how we can deal with repress
 ion.UNTIL ALL ARE FREE!Entry via donation.\n\nViel Spass wünscht Gratis-in-Berl
 in\n\nLink zum Tip: \nZu den Gratis-in-Berlin Angeboten: http://www.gratis
 -in-berlin.de\n
DTSTART;VALUE=DATE:20250701
DTEND;VALUE=DATE:20250702
SUMMARY:'Gefängnis ist zum Verbrennen' - Gespräch im RegenbogenKino
END:VEVENT
END:VCALENDAR
