BEGIN:VCALENDAR
VERSION:2.0
PRODID:-//Gratis-in-Berlin//NONSGML kigkonsult.se iCalcreator 2.14//
METHOD:PUBLISH
X-WR-CALNAME:Gratis-in-Berlin Tip Kalender
X-WR-CALDESC:Erhalte Gratis-in-Berlin Tips in deinem Kalender
BEGIN:VEVENT
UID:20260419T143835UTC-6617a8Juhp@Gratis-in-Berlin
DTSTAMP:20260419T143835Z
DESCRIPTION:Traumatische Erfahrungen\, aber auch langanhaltende schwierige 
 Lebenssituationen führen oft zu Blockaden in den feineren Schichten. Die Auswir
 kungen davon sind häufig kreisende Gedanken\, innere Unruhe\, emotionale Bel
 astungen bis hin zu physischen Auswirkungen.Eine Feinstofftherapie kann di
 e Blockaden lösen und so bewirken\, dass die Vergangenheit sich abschließt. Da
 s gegenwärtige Leben wird wieder freudiger und zuversichtlicher. Im Vortrag 
 erfahren Sie mehr über diese Zusammenhänge und welche Hilfen es gibt\, so dass si
 ch in relativ kurzer Zeit eine deutliche Verbesserung des Lebensgefühls einstel
 lt.Veranstaltungsort:Feinstoffpraxis LüttgauRothenburgstr. 712163 Berlin(5 min.
  vom S- und U-Bahnhof Rathaus Steglitz\, S1 + U9)Wann?Dienstag\, 01. Juli 
 2025 um 20 UhrDer Vortrag ist öffentlich und kostenlos.Anmeldung erforderlich
 .Referent: Jörg-Christoph Lüttgau030-22012917info@feinstoffpraxis-luettgau.de\n\nV
 iel Spass wünscht Gratis-in-Berlin\n\nLink zum Tip: https://www.gratis-in-berli
 n.de/wissen-live/item/2073405-vortrag-trennung-trauer-trauma\nZu den Grati
 s-in-Berlin Angeboten: http://www.gratis-in-berlin.de\n
DTSTART;VALUE=DATE:20250701
DTEND;VALUE=DATE:20250702
SUMMARY:Vortrag: Trennung\, Trauer\, Trauma
END:VEVENT
END:VCALENDAR
