BEGIN:VCALENDAR
VERSION:2.0
PRODID:-//Gratis-in-Berlin//NONSGML kigkonsult.se iCalcreator 2.14//
METHOD:PUBLISH
X-WR-CALNAME:Gratis-in-Berlin Tip Kalender
X-WR-CALDESC:Erhalte Gratis-in-Berlin Tips in deinem Kalender
BEGIN:VEVENT
UID:20260419T143504UTC-7586W6g1sA@Gratis-in-Berlin
DTSTAMP:20260419T143504Z
DESCRIPTION:Join us for a deep dive into the real-world applications of AI 
 and Computer Vision in logistics\, based on the latest insights from the D
 HL Logistics Trend Radar. In this expert-led session\, we?ll move beyond t
 he buzz and explore how these emerging technologies are transforming suppl
 y chains\, warehouse operations\, and industrial processes.Designed for en
 gineers and technical professionals\, the webinar will spotlight key trend
 s\, use cases\, and implementation challenges ? providing you with actiona
 ble insights to apply in your own work. Whether you're developing automati
 on systems\, deploying smart cameras\, or optimizing logistics flows\, thi
 s session will help you stay ahead of the curve.  Dr. Klaus Dohrmann is Vi
 ce President Innovation &amp\; Trend Research at DHL Customer Solutions an
 d Innovation (CSI). He and his team position DHL as a logistics thought le
 ader through initiatives like the DHL Logistics Trend Radar and deep-dive 
 trend reports (https://www.dhl.com/us-en/home/innovation-in-logistics/logi
 stics-trend-radar.html). They foster innovation via collaboration with cus
 tomers\, academia\, industry\, and DHL experts. Klaus joined DPDHL in 2008
 \, progressing through strategic roles before assuming his current positio
 n.He holds diplomas in business administration and economics\, and earned 
 a PhD in 2015 on electric vehicles in last-mile delivery. He is a recogniz
 ed speaker and author on trends in logistics\, supply chains\, future of w
 ork\, digital twins\, and innovation. This is an online event. Please regi
 ster via the link. Verein Deutscher Ingenieure (VDI) Bezirksverein Berlin 
 - Brandenburg e. V.  Bild:&nbsp\;Westend61 via Gettyimages\n\nViel Spass w
 ünscht Gratis-in-Berlin\n\nLink zum Tip: \nZu den Gratis-in-Berlin Angeboten: h
 ttp://www.gratis-in-berlin.de\n
DTSTART;VALUE=DATE:20250902
DTEND;VALUE=DATE:20250903
SUMMARY:Beyond the Hype: AI & Computer Vision Insights from The DHL Logisti
 cs Trend Radar
END:VEVENT
END:VCALENDAR
