BEGIN:VCALENDAR
VERSION:2.0
PRODID:-//Gratis-in-Berlin//NONSGML kigkonsult.se iCalcreator 2.14//
METHOD:PUBLISH
X-WR-CALNAME:Gratis-in-Berlin Tip Kalender
X-WR-CALDESC:Erhalte Gratis-in-Berlin Tips in deinem Kalender
BEGIN:VEVENT
UID:20260419T201737UTC-3227CKJaCu@Gratis-in-Berlin
DTSTAMP:20260419T201737Z
DESCRIPTION:Der VDI-Bezirksverein Berlin-Brandenburg e. V. lädt Sie herzlich 
 zu unserer Online-Veranstaltung ein:  Das Fraunhofer IEG ist eine renommie
 rte Forschungseinrichtung mit mehreren Standorten in Deutschland:Das Fraun
 hofer Institut für Energiewirtschaft und Energiesystemtechnik (IEG) widmet sich
  der Erforschung und Entwicklung innovativer Technologien und Konzepte zur
  Unterstützung der Energiewende. Als ?Kind des Kohleausstiegs? entwickelt das I
 EG praxisnahe Lösungen für eine nachhaltige Energieversorgung von Industrie und Ko
 mmunen und treibt die Transformation bestehender Energieinfrastrukturen vo
 ran. Dabei verbindet das Institut interdisziplinäre Expertise aus den Bereic
 hen Energiewirtschaft\, Elektrotechnik\, Informatik und Systemtechnik\, um
  nachhaltige und effiziente Energiesysteme zu gestalten. Eng arbeitet das 
 IEG mit Industriepartnern\, Energieversorgern und politischen Entscheidung
 strägern zusammen\, um praxisnahe und marktgerechte Lösungen für die Herausforderung
 en moderner Energiestrukturen zu entwickeln.Zentrale Themen: Transformatio
 n der Wärmeversorgung\, Geotechnologien\, Wasserstoff- und CO?-Technologien 
 sowie Sektorenkopplung.Die Veranstaltung bietet:Einen kompakten Überblick z
 um Institut und aktuellen ForschungsfeldernInfos zu Jobmöglichkeiten für Studieren
 de\, Absolvent:innen und AzubisDie Möglichkeit zum direkten Austausch via Cha
 t und Liveschaltung  Melden Sie sich über den Link zur Veranstaltung an und erh
 alten Sie alle weiteren Details. Bild:&nbsp\;martin-dm/gettyimages.de\n\nV
 iel Spass wünscht Gratis-in-Berlin\n\nLink zum Tip: \nZu den Gratis-in-Berlin A
 ngeboten: http://www.gratis-in-berlin.de\n
DTSTART;VALUE=DATE:20250904
DTEND;VALUE=DATE:20250905
SUMMARY:Strukturwandel Lausitz: Forschungsprogramm Fraunhofer IEG zur Energ
 iewende
END:VEVENT
END:VCALENDAR
