BEGIN:VCALENDAR
VERSION:2.0
PRODID:-//Gratis-in-Berlin//NONSGML kigkonsult.se iCalcreator 2.14//
METHOD:PUBLISH
X-WR-CALNAME:Gratis-in-Berlin Tip Kalender
X-WR-CALDESC:Erhalte Gratis-in-Berlin Tips in deinem Kalender
BEGIN:VEVENT
UID:20260422T215441UTC-6989ICkE4N@Gratis-in-Berlin
DTSTAMP:20260422T215441Z
DESCRIPTION:Was braucht es\, damit Menschenunterschiedlicher Kulturen\, Gen
 erationen und Lebenswelten ihr Miteinander gut gestalten können?Die ZLB wird 
 ab Herbst 2025 zum Ort\, um das gemeinsam zu erproben.Unter dem Motto ?Zus
 ammenleben?präsentieren wir mit Gemeinschaftender Stadtgesellschaft ein brei
 tesVeranstaltungsprogramm\, das neue Impulse zu drei thematischen Schwerpu
 nkten gibt: ob ?in der Stadt?\, ?in Vielfalt? oder ?im digitalen Zeitalter
 ? ? mit über 120 Veranstaltungen gestalten wir gemeinsam unser Zusammenleben.Lo
 s geht?s am 27. September mit einem Fest - der MITMACHTAG zur Eröffnung von Z
 USAMMENLEBEN.© ZLB | Foto: Vincent Mosch\n\nViel Spass wünscht Gratis-in-Berlin
 \n\nLink zum Tip: https://www.gratis-in-berlin.de/wissen-live/item/2074208
 -zusammenleben-einzelne-termine\nZu den Gratis-in-Berlin Angeboten: http:/
 /www.gratis-in-berlin.de\n
DTSTART;VALUE=DATE:20250927
DTEND;VALUE=DATE:20251231
SUMMARY:Zusammenleben (einzelne Termine)
END:VEVENT
END:VCALENDAR
