BEGIN:VCALENDAR
VERSION:2.0
PRODID:-//Gratis-in-Berlin//NONSGML kigkonsult.se iCalcreator 2.14//
METHOD:PUBLISH
X-WR-CALNAME:Gratis-in-Berlin Tip Kalender
X-WR-CALDESC:Erhalte Gratis-in-Berlin Tips in deinem Kalender
BEGIN:VEVENT
UID:20260419T140440UTC-5578SOc9Nb@Gratis-in-Berlin
DTSTAMP:20260419T140440Z
DESCRIPTION:Jährlich werden in Deutschland 11 Millionen Tonnen Lebensmittel e
 ntlang der gesamten Wertschöpfungskette weggeworfen (Statistisches Bundesamt\
 , 2022). - Das darf nicht so weitergehen!Am 27. September\, dem Tag der Le
 bensmittelrettung\, setzen wir von foodsharing Berlin ein sichtbares Zeich
 en:Vor dem Roten Rathaus errichten wir eine große Installation aus 1.662 Kl
 appkisten\, die symbolisch die 11 Tonnen Lebensmittel darstellen\, die wir
  als Initiative täglich in Berlin vor dem Wegwerfen bewahren ? aus Supermärkte
 n\, Bäckereien\, Gastronomie\, Märkten\, Caterings und Cafeterien\, etc.Was er
 wartet euch:? Eine beeindruckende Visualisierung geretteter Lebensmittelme
 ngen? Eine Gesprächsrunde mit Expert*innen aus Politik\, Wissenschaft\, Gast
 ronomie\, sozialen Einrichtungen und der foodsharing-Community (13-15 Uhr)
 ? Informationen\, Austausch und Inspiration rund um das Thema Lebensmittel
 verschwendung? Die Möglichkeit\, selbst aktiv zu werden und Teil der Bewegung
  zu seinKommt vorbei und setzt mit uns ein Zeichen!&nbsp\;Lasst uns gemein
 sam dafür sorgen\, dass weniger Lebensmittel in der Tonne landen ? für eine nachhalt
 igere Zukunft.*die von foodsharing ausgestellten\, geretteten Lebensmittel
  werden kostenfrei an alle fairteilt.&nbsp\;\n\nViel Spass wünscht Gratis-in-Be
 rlin\n\nLink zum Tip: \nZu den Gratis-in-Berlin Angeboten: http://www.grat
 is-in-berlin.de\n
DTSTART;VALUE=DATE:20250927
DTEND;VALUE=DATE:20250928
SUMMARY:Aktionen gegen Verschwendung: Tag der Lebensmittelrettung (12-18h) 
 | Platz vorm Roten Rathaus
END:VEVENT
END:VCALENDAR
