BEGIN:VCALENDAR
VERSION:2.0
PRODID:-//Gratis-in-Berlin//NONSGML kigkonsult.se iCalcreator 2.14//
METHOD:PUBLISH
X-WR-CALNAME:Gratis-in-Berlin Tip Kalender
X-WR-CALDESC:Erhalte Gratis-in-Berlin Tips in deinem Kalender
BEGIN:VEVENT
UID:20260419T153825UTC-3017NLPJ83@Gratis-in-Berlin
DTSTAMP:20260419T153825Z
DESCRIPTION:Das Bezirksamt Friedrichshain-Kreuzberg beteiligt sich am Kinde
 rsachenflohmarkt mit dem Kiezbürgeramt. Dahinter verbirgt sich ein mobiles Ange
 bot. Bürger*innen können am Digitaltag direkt vor Ort und ohne Termin sämtliche Verw
 altungsdienstleistungen der Bürgerämter erledigen. Zudem ist die Aktivierung de
 r Onlineausweisfunktionen einschließlich der Pinsetzung möglich. Überdies infor
 mieren die Kolleginnen und Kollegen vom Bezirksamt Friedrichshain-Kreuzber
 g zu allen Fragen rund um die Verwaltungsdienstleistungen der Bürgerämter.27. S
 eptember 2025 // 10 ? 13 Uhr- Bezirkszentralbibliothek Pablo Neruda- Ohne 
 Voranmeldung\n\nViel Spass wünscht Gratis-in-Berlin\n\nLink zum Tip: https://ww
 w.gratis-in-berlin.de/kalender/item/2074562-das-kiezbuergeramt-in-der-bibl
 iothek\nZu den Gratis-in-Berlin Angeboten: http://www.gratis-in-berlin.de
 \n
DTSTART;VALUE=DATE:20250927
DTEND;VALUE=DATE:20250928
SUMMARY:Das Kiezbürgeramt in der Bibliothek
END:VEVENT
END:VCALENDAR
