BEGIN:VCALENDAR
VERSION:2.0
PRODID:-//Gratis-in-Berlin//NONSGML kigkonsult.se iCalcreator 2.14//
METHOD:PUBLISH
X-WR-CALNAME:Gratis-in-Berlin Tip Kalender
X-WR-CALDESC:Erhalte Gratis-in-Berlin Tips in deinem Kalender
BEGIN:VEVENT
UID:20260421T142355UTC-93833rUjor@Gratis-in-Berlin
DTSTAMP:20260421T142355Z
DESCRIPTION:Hallo liebe Eltern\,wir laden euch herzlich zu einer kostenlose
 n Schnupperstunde im Studiolingo ein! \n\nViel Spass wünscht Gratis-in-Berlin\n
 \nLink zum Tip: \nZu den Gratis-in-Berlin Angeboten: http://www.gratis-in-
 berlin.de\n
DTSTART;VALUE=DATE:20250927
DTEND;VALUE=DATE:20250928
SUMMARY:Mit Köpfchen & Spaß zur Sprache für 4-6 Jährige ? Probestunde im Studiolingo
END:VEVENT
END:VCALENDAR
