BEGIN:VCALENDAR
VERSION:2.0
PRODID:-//Gratis-in-Berlin//NONSGML kigkonsult.se iCalcreator 2.14//
METHOD:PUBLISH
X-WR-CALNAME:Gratis-in-Berlin Tip Kalender
X-WR-CALDESC:Erhalte Gratis-in-Berlin Tips in deinem Kalender
BEGIN:VEVENT
UID:20260419T122526UTC-8335lF19XE@Gratis-in-Berlin
DTSTAMP:20260419T122526Z
DESCRIPTION:Registration is mandatory. Please register here:https://go.esmt
 .berlin/insight-hour-matthias-geselle&nbsp\;When the biggest unit in Group
  IT wasn?t meeting expectations on compliance\, transparency\, or business
  orientation\, the leadership at Merck KGaA called for sweeping change. Bu
 t just as the transformation kicked off\, a company-wide restructuring sig
 nificantly raised the stakes. The core challenge? Rebuild the system witho
 ut interrupting operations. In this ESMT Insight Hour\, Matthias Geselle\,
  senior vice president and global head of IT at Merck KGaA\, shares how hi
 s team pulled off a bold IT reboot while keeping operations stable and sec
 ure. You'll learn how he led a three-phase transformation that delivered r
 eal savings\, improved performance\, and kept people engaged\, all while s
 upporting company-wide change.You?ll gain insight into:- Balancing legacy 
 systems with the need for innovation- Meeting compliance requirements with
 out slowing down- Leading change while keeping your team motivated and ali
 gnedJoin us to find out what it really takes to transform IT without break
 ing the system. Moderated by Nan Guo\, Chief Digital Officer\, ESMT Berlin
 .\n\nViel Spass wünscht Gratis-in-Berlin\n\nLink zum Tip: \nZu den Gratis-in-Be
 rlin Angeboten: http://www.gratis-in-berlin.de\n
DTSTART;VALUE=DATE:20251126
DTEND;VALUE=DATE:20251127
SUMMARY:ESMT Insight Hour with Matthias Geselle: Lessons from Merck KGaA?s 
 IT transformation 
END:VEVENT
END:VCALENDAR
