BEGIN:VCALENDAR
VERSION:2.0
PRODID:-//Gratis-in-Berlin//NONSGML kigkonsult.se iCalcreator 2.14//
METHOD:PUBLISH
X-WR-CALNAME:Gratis-in-Berlin Tip Kalender
X-WR-CALDESC:Erhalte Gratis-in-Berlin Tips in deinem Kalender
BEGIN:VEVENT
UID:20260419T130411UTC-3492zNczfB@Gratis-in-Berlin
DTSTAMP:20260419T130411Z
DESCRIPTION:Mitten im Kalten Krieg fand 1973 in Helsinki die Konferenz über Sich
 erheit und Zusammenarbeit in Europa (KSZE) statt\, mit Vertretern von 35 S
 taaten\, sowohl der NATO als auch des Warschauer Vertrages. Trotz schier u
 nüberwindbarer politischer Gegensätze trafen sich in einer Phase der neuen deutsc
 hen Ost- und Entspannungspolitik Regierungen beider Machtblöcke zu Verhandlun
 gen mit dem Ziel auf Verständigung\, später als 'Geist von Helsinki' benannt.D
 ie Schlussakte der KSZE\, am 1. August 1975 von allen Regierungschefs in H
 elsinki unterzeichnet\, schaffte auf der einen Seite eine Art 'Anerkennung
  der Machtbereiche' in Europa und damit vermeintlich eine politische Stärkun
 g der Länder des ?Ostblocks?. Andererseits war sie entscheidend für die Gründung und S
 tärkung von oppositionellen Gruppen in Osteuropa\, wie Solidarno?? in Polen\
 , Charta 77 in der ?SSR oder der ?Initiative für Frieden und Menschenrechte? in
  der DDR\, was zur Auflösung des kommunistischen Machtbereiches in Europa ent
 scheidend beitrug. Der 1. August 1975 war der Anfang vom Ende des Ostblock
 s. Nur 14 Jahre später fielen in Europa die Grenzen.PodiumDr. Nadja Douglas\
 , Wissenschaftliche Mitarbeiterin am Zentrum für Osteuropa- und internationale 
 Studien (ZOiS) &amp\; Stiftung Wissenschaft und PolitikWolfgang Templin\, 
 Zeitzeuge\, Publizist &amp\; OsteuropaexperteDr. Henrik Bispinck\, Histori
 ker &amp\; Vorsitzender des Fördervereins Erinnerungsstätte Notaufnahmelager Ma
 rienfeldeModeration: Nils Busch-Petersen\, Mitglied im Förderverein der Geden
 kstätte Berliner MauerDie Veranstaltung findet im Rahmen der Reihe Leben in 
 Diktaturen des Fördervereins Gedenkstätte Berliner Mauer statt.In Kooperation m
 it dem Zentrum für Osteuropa- und internationale Studien (ZOiS)\, dem Förderverein
  Gedenkstätte Berliner Mauer und dem Förderverein Erinnerungsstätte Notaufnahmela
 ger Marienfelde\n\nViel Spass wünscht Gratis-in-Berlin\n\nLink zum Tip: \nZu de
 n Gratis-in-Berlin Angeboten: http://www.gratis-in-berlin.de\n
DTSTART;VALUE=DATE:20251126
DTEND;VALUE=DATE:20251127
SUMMARY:Der Anfang vom Ende - 50 Jahre Schlussakte von Helsinki
END:VEVENT
END:VCALENDAR
