BEGIN:VCALENDAR
VERSION:2.0
PRODID:-//Gratis-in-Berlin//NONSGML kigkonsult.se iCalcreator 2.14//
METHOD:PUBLISH
X-WR-CALNAME:Gratis-in-Berlin Tip Kalender
X-WR-CALDESC:Erhalte Gratis-in-Berlin Tips in deinem Kalender
BEGIN:VEVENT
UID:20260419T171414UTC-98217P6D1J@Gratis-in-Berlin
DTSTAMP:20260419T171414Z
DESCRIPTION:Digitale Medien sind aus unserem Alltag nicht mehr wegzudenken.
  Doch mit den vielen Möglichkeiten kommen auch neue Herausforderungen: Hassre
 de\, Fake News und gezielte Desinformation vergiften Diskussionen\, gefährde
 n Teilhabe und zerstören Vertrauen. In der Veranstaltung wird diskutiert\, wi
 e man diesen Entwicklungen aktiv begegnen kann. Dabei geht es um das Verst
 ändnis der Mechanismen hinter Hassrede\, Verschwörungserzählungen und Falschinfor
 mationen. Teilnehmende lernen\, digitale Inhalte kritisch zu prüfen\, deren Gla
 ubwürdigkeit einzuschätzen und wirkungsvolle Strategien für Prävention und Interventio
 n zu entwickeln.Mit Referent*in vom Archiv der JugendkulturenHinweis des V
 eranstaltersMelde dich bis 24 Stunden vor der Veranstaltung per E-Mail ode
 r Telefon an ? du bekommst eine Bestätigung. Kurzfristige Anmeldungen können wi
 r nicht immer gewährleisten.Die Veranstaltungen sind ? wenn nicht anders gek
 ennzeichnet ? deutschsprachig.INFOS &amp\; ANMELDUNG030 / 422 65-798freiwi
 llig@unionhilfswerk.de\n\nViel Spass wünscht Gratis-in-Berlin\n\nLink zum Tip: 
 \nZu den Gratis-in-Berlin Angeboten: http://www.gratis-in-berlin.de\n
DTSTART;VALUE=DATE:20260219
DTEND;VALUE=DATE:20260220
SUMMARY:Gemeinsam gegen Hass und Desinformation im Netz
END:VEVENT
END:VCALENDAR
