BEGIN:VCALENDAR
VERSION:2.0
PRODID:-//Gratis-in-Berlin//NONSGML kigkonsult.se iCalcreator 2.14//
METHOD:PUBLISH
X-WR-CALNAME:Gratis-in-Berlin Tip Kalender
X-WR-CALDESC:Erhalte Gratis-in-Berlin Tips in deinem Kalender
BEGIN:VEVENT
UID:20260419T122311UTC-6416fh9BXL@Gratis-in-Berlin
DTSTAMP:20260419T122311Z
DESCRIPTION:Moderierter OFFLINE TREFFFür nahezu alle heute ist das Smartphone un
 ser ständiger Begleiter. Wir sind ständig online\, und das kann zu viel werden
 . Wir merken: es geht uns nicht mehr gut.Einmal richtig digital detoxen un
 d (das Handy) abschalten\, ist oft das\, was wir dann brauchen. Dazu biete
 t der Digital Detox Gelegenheit. Gemeinsam mit anderen und unter Anleitung
  kann hier die unterschätzte Kraft der echten Digital-Pause erlebt werden. Z
 u Beginn schließen wir unsere Handys weg und kommen dann spielerisch mitein
 ander in Austausch\, unmittelbar und echt. Ein Schritt in Richtung ?Handy 
 in Balance?.Ab 18 Jahren.Handys bitte mitbringen.\n\nViel Spass wünscht Gratis-
 in-Berlin\n\nLink zum Tip: https://www.gratis-in-berlin.de/kalender/item/2
 076636-digital-detox-offline-treff\nZu den Gratis-in-Berlin Angeboten: htt
 p://www.gratis-in-berlin.de\n
DTSTART;VALUE=DATE:20260222
DTEND;VALUE=DATE:20260223
SUMMARY:Digital Detox (Offline Treff)
END:VEVENT
END:VCALENDAR
