BEGIN:VCALENDAR
VERSION:2.0
PRODID:-//Gratis-in-Berlin//NONSGML kigkonsult.se iCalcreator 2.14//
METHOD:PUBLISH
X-WR-CALNAME:Gratis-in-Berlin Tip Kalender
X-WR-CALDESC:Erhalte Gratis-in-Berlin Tips in deinem Kalender
BEGIN:VEVENT
UID:20260422T083606UTC-5974lB4OMH@Gratis-in-Berlin
DTSTAMP:20260422T083606Z
DESCRIPTION:Workshop mit Johanna Schaeffer-Kehnert und Mackenzie NelsonDie 
 Anzahl der Teilnehmer:innen ist begrenzt. Wir bitten daher um Anmeldung un
 ter www.offen-fuer-kultur.de.Die Veranstaltung findet von 10:00 Uhr bis 16
 :00 Uhr in der Hansabibliothek statt. Die Teilnahme ist kostenfrei.Dialogu
 e Warriors nimmt sich einer der dringendsten demokratischen Herausforderun
 gen in Europa an: der wachsenden affektiven Polarisierung und dem Verlust 
 konstruktiver Dialogfähigkeit. Dieser interaktive Workshop unterstützt Teilnehmen
 de dabei\, Polarisierung zu navigieren und ?guten Konflikt? in ihren Gemei
 nschaften zu fördern. Anhand von Fallstudien\, interaktiver Gruppenarbeit und
  Rollenspielen erkunden die Teilnehmenden praktische Werkzeuge für Deeskalation
 \, tiefes Zuhören und konstruktiven Dialog ? basierend auf dem Good-Conflict-
 Framework der US-Journalistinnen Amanda Ripley und Hélène Biandudi Hofer.Zie
 le des Workshops:- Treiber toxischer Konflikte und Dynamiken schwieriger G
 espräche erkennen- Werkzeuge wie ?Looping? für tiefes Zuhören anwenden sowie Modelle
  kennenlernen\, um gesunden Konflikt in Dialogen über Unterschiede konstruktiv 
 zu verankernDurch die Stärkung der Fähigkeit zu ?gutem Konflikt? möchte Dialogue 
 Warriors zu einer gesünderen politischen Kultur beitragen ? einer Kultur\, in d
 er Unterschiede produktiv zum Ausdruck gebracht werden können.Über die Trainer
 innen:Johanna Schaeffer-Kehnert\, Beraterin\, Prozessbegleiterin und Moder
 atorin im öffentlichen Sektor\, und Mackenzie Nelson\, Trainerin und Prozessb
 egleiterin im Non-Profit-Sektor\, sind Freundinnen\, die eine gemeinsame S
 orge über den Anstieg der Polarisierung in Deutschland und weltweit verbindet ?
  ebenso wie der Glaube daran\, dass wir alle bessere Formen des Streitens 
 und des Umgangs mit Differenzen vorleben können. Gemeinsam möchten sie Menschen 
 darin unterstützen\, in ihren eigenen Gemeinschaften Veränderungen anzustoßen und 
 Räume für konstruktive Auseinandersetzung zu schaffen.Das vollständige Programm von
  OFFEN FÜR KULTUR findet ihr unter www.offen-fuer-kultur.de.OFFEN FÜR KULTUR
  wird mit Mitteln der LOTTO-Stiftung Berlin finanziert.(Bild: Public Domai
 n Pictures)\n\nViel Spass wünscht Gratis-in-Berlin\n\nLink zum Tip: \nZu den Gr
 atis-in-Berlin Angeboten: http://www.gratis-in-berlin.de\n
DTSTART;VALUE=DATE:20260201
DTEND;VALUE=DATE:20260202
SUMMARY:Dialogue Warriors: Werkzeuge für guten Konflikt in polarisierten Zeiten
END:VEVENT
END:VCALENDAR
