BEGIN:VCALENDAR
VERSION:2.0
PRODID:-//Gratis-in-Berlin//NONSGML kigkonsult.se iCalcreator 2.14//
METHOD:PUBLISH
X-WR-CALNAME:Gratis-in-Berlin Tip Kalender
X-WR-CALDESC:Erhalte Gratis-in-Berlin Tips in deinem Kalender
BEGIN:VEVENT
UID:20260419T133032UTC-7449WhA9s1@Gratis-in-Berlin
DTSTAMP:20260419T133032Z
DESCRIPTION:Schreibwerkstatt für krisenerfahrene Menschen. Zusammen schreiben un
 d teilen ? ein gemeinsames Erlebnis.Die kreative Schreibwerkstatt ?Schreib
 erei? lädt krisenerfahrene Menschen ein\, in Gemeinschaft zu schreiben und d
 as Geschriebene mit anderen zu teilen.Zu Beginn des Treffens einigen sich 
 die Teilnehmenden auf einen Gegenstand (Begriffe\, Worte\, Themen\, Bilder
 ).Die Schreibphase dauert ca. 40 Minuten. In der zweiten Hälfte werden die g
 eschriebenen Beiträge vorgelesen. Alles ist freiwillig.© Adobe Stock | ZLB\n
 \nViel Spass wünscht Gratis-in-Berlin\n\nLink zum Tip: https://www.gratis-in-be
 rlin.de/kalender/item/2076700-schreiberei\nZu den Gratis-in-Berlin Angebot
 en: http://www.gratis-in-berlin.de\n
DTSTART;VALUE=DATE:20260222
DTEND;VALUE=DATE:20260223
SUMMARY:Schreiberei
END:VEVENT
END:VCALENDAR
