BEGIN:VCALENDAR
VERSION:2.0
PRODID:-//Gratis-in-Berlin//NONSGML kigkonsult.se iCalcreator 2.14//
METHOD:PUBLISH
X-WR-CALNAME:Gratis-in-Berlin Tip Kalender
X-WR-CALDESC:Erhalte Gratis-in-Berlin Tips in deinem Kalender
BEGIN:VEVENT
UID:20260419T142241UTC-8795hZiDZ2@Gratis-in-Berlin
DTSTAMP:20260419T142241Z
DESCRIPTION:Elektronische Patientenakte | Seit 2025 ist die elektronische P
 atientenakte (ePA) für alle verfügbar\, jedoch gibt es noch viele Fragen bezüglich ihrer 
 Nutzung\, der gespeicherten Daten und deren Schutz.Seit 2025 ist sie da: D
 ie elektronische Patientenakte (ePA) für alle!Doch es stellen sich zur ePA noch
  viele verschiedene Fragen:Was bringt die ePA eigentlich?Wie kann ich die 
 ePA nutzen?Welche Daten werden gespeichert?Wie bleiben die Daten in der eP
 A geschützt?Das Berliner Landeskompetenzzentrum Pflege 4.0 LEBEN - PFLEGE - DIG
 ITAL klärt Sie unabhängig und neutral zur ePA auf.Das Berliner Landeskompetenz
 zentrum Pflege 4.0 ist die zentrale Anlaufstelle für alle Fragen zum Thema ?Dig
 italisierung der Pflege? und bietet aktuelle sowie sachkundige Information
 en für alle Interessiert an - im direkten Kontakt als auch über deren offizielle Web
 seite www.lebenpflegedigital.de.Wichtige Akteure und Interessenvertreter w
 erden zusammengebracht\, um Ideen und Lösungen zu entwickeln\, wie die prakti
 sche Umsetzung neuer Technologien in Berlin gestaltet werden kann. Zudem b
 esteht ein Angebot\, digitale Lösungen kennenzulernen und auszuprobieren.Das 
 Landeskompetenzzentrum Pflege 4.0 ist ein Projekt der Albatros gGmbH und w
 ird durch die Berliner Senatsverwaltung für Wissenschaft\, Gesundheit und Pfleg
 e (SenWGP) gefördert.© Adobe Stock | Stockwerk-Fotodesign\n\nViel Spass wünscht Gra
 tis-in-Berlin\n\nLink zum Tip: \nZu den Gratis-in-Berlin Angeboten: http:/
 /www.gratis-in-berlin.de\n
DTSTART;VALUE=DATE:20260224
DTEND;VALUE=DATE:20260225
SUMMARY:Elektronische Patientenakte: Fragen bezüglich ihrer Nutzung\, der gespei
 cherten Daten und deren Schutz.
END:VEVENT
END:VCALENDAR
