BEGIN:VCALENDAR
VERSION:2.0
PRODID:-//Gratis-in-Berlin//NONSGML kigkonsult.se iCalcreator 2.14//
METHOD:PUBLISH
X-WR-CALNAME:Gratis-in-Berlin Tip Kalender
X-WR-CALDESC:Erhalte Gratis-in-Berlin Tips in deinem Kalender
BEGIN:VEVENT
UID:20260421T154644UTC-1574oX7IXw@Gratis-in-Berlin
DTSTAMP:20260421T154644Z
DESCRIPTION:Früher war alles besser ? oder etwa nicht? Nostalgie ist ein starkes
  Gefühl: Sie kann verbinden\, trösten und Hoffnung geben\, aber auch den Blick nac
 h vorn verstellen. In Zeiten des Wandels erleben wir sie überall ? in Politik\,
  Popkultur und persönlichen Erinnerungen. Doch was passiert\, wenn wir Nostal
 gie nicht als Rückzug\, sondern als Ressource für Zukunftsgestaltung nutzen? Ihr exp
 erimentiert mit Erinnerungen\, Bildern und Gefühlen aus der Vergangenheit ? und
  fragt\, wie sie unsere Vorstellungen von morgen beeinflussen. Spielerisch
  und spekulativ erkundet ihr\, wie nostalgische Bilder entstehen\, was sie
  mit unserer Imagination machen und wie sie sich in neue Zukunftsentwürfe übers
 etzen lassen. Gemeinsam probiert ihr unterschiedliche Zugänge aus\, entwicke
 lt erste Prototypen und testet\, wie Nostalgie helfen kann\, wünschenswerte Zuk
 ünfte greifbarer zu machen ? ohne dabei in vereinfachte Früher-war-alles-besser-Erzähl
 ungen zu verfallen. Der Workshop ist ein Pilotformat von Futures Probes un
 d lädt zum Mitdenken\, Mitspielen und Mitimaginieren ein. Workshopleitung Li
 lith Boettcher und Katrina Günther (von Futures Probes). Informationen -&gt\; V
 eranstaltungsort: Workshop-Bereich im Lab -&gt\; Eintritt: kostenfrei -&gt
 \; Veranstaltungssprache: Deutsch -&gt\; Max. Teilnehmer*innenzahl: 20 Per
 sonen -&gt\; Teilnahmebedingungen: keine Vorkenntnisse erforderlich -&gt\;
  Altersempfehlung: ab 16 Jahre Zugänglichkeit -&gt\; Wir sind ein rollstuhlg
 erechter Veranstaltungsort.-&gt\; Plätze ohne Bestuhlung stehen Rollstuhlfah
 rer*innen zur Verfügung. Zukunft ist für alle da! Das Futurium möchte für alle Menschen zugäng
 lich sein. Wenn es eurerseits weitere Zugangsbedürfnisse gibt\, teilt sie uns g
 ern mit.  Wir versuchen\, sie zu erfüllen: info@futurium.de Hier findet ihr all
 e Informationen zur Barrierefreiheit: https://futurium.de/de/barrierefreih
 eit  Foto &amp\; Video Während der Veranstaltung werden Fotos und Videos gem
 acht. Wenn ihr nicht abgebildet werden wollt\, meldet euch bitte vorab. Ti
 ckets Für diese Veranstaltung benötigt ihr ein Ticket. Wenn die Veranstaltung ausg
 ebucht ist\, wird der Button nicht mehr angezeigt. Aufgrund der limitierte
 n Plätze kann immer nur ein Ticket pro Person gebucht werden.  Foto: Futures
  Probes\n\nViel Spass wünscht Gratis-in-Berlin\n\nLink zum Tip: \nZu den Gratis
 -in-Berlin Angeboten: http://www.gratis-in-berlin.de\n
DTSTART;VALUE=DATE:20260522
DTEND;VALUE=DATE:20260523
SUMMARY:Zurück in die Zukunft? ? Nostalgie als Werkzeug für wünschenswerte Zukünfte
END:VEVENT
END:VCALENDAR
