BEGIN:VCALENDAR
VERSION:2.0
PRODID:-//Gratis-in-Berlin//NONSGML kigkonsult.se iCalcreator 2.14//
METHOD:PUBLISH
X-WR-CALNAME:Gratis-in-Berlin Tip Kalender
X-WR-CALDESC:Erhalte Gratis-in-Berlin Tips in deinem Kalender
BEGIN:VEVENT
UID:20260419T122519UTC-4533lCRf7K@Gratis-in-Berlin
DTSTAMP:20260419T122519Z
DESCRIPTION:Unser Digitalkurs für ukrainische Senior:innen vermittelt verständlich
  und Schritt für Schritt den sicheren Umgang mit Smartphone\, WhatsApp und dem 
 Internet. In ruhiger Atmosphäre üben wir gemeinsam ? mit viel Geduld\, praktische
 n Tipps und Zeit für Ihre Fragen.23.01.2026 (Fr) 11:00 bis 13:30 Uhr06.02.2026 
 (Fr) 11:00 bis 13:00 Uhr13.02.2026 (Fr) 11:00 bis 13:00 UhrWo?Stadtteilbib
 liothek KarowAnmeldung telefonisch oder in der Stadtteilbibliothek Karow\n
 \nViel Spass wünscht Gratis-in-Berlin\n\nLink zum Tip: https://www.gratis-in-be
 rlin.de/kalender/item/2076777-digitalkurs-fuer-ukrainische-senior-innen\nZ
 u den Gratis-in-Berlin Angeboten: http://www.gratis-in-berlin.de\n
DTSTART;VALUE=DATE:20260213
DTEND;VALUE=DATE:20260214
SUMMARY:Digitalkurs für ukrainische Senior:innen
END:VEVENT
END:VCALENDAR
