BEGIN:VCALENDAR
VERSION:2.0
PRODID:-//Gratis-in-Berlin//NONSGML kigkonsult.se iCalcreator 2.14//
METHOD:PUBLISH
X-WR-CALNAME:Gratis-in-Berlin Tip Kalender
X-WR-CALDESC:Erhalte Gratis-in-Berlin Tips in deinem Kalender
BEGIN:VEVENT
UID:20260420T174656UTC-0347MjzkfR@Gratis-in-Berlin
DTSTAMP:20260420T174656Z
DESCRIPTION:Das Herzzentrum - 3. Vortrag aus der Reihe 'Kraftzentren'Die Le
 hre der Kraftzentren oder Chakras beschreibt\, wie Körper\, Seele und Geist m
 iteinander verbunden sind. Sie zeigt auch Wege auf\, wie wir unser Bewusst
 sein für eine höhere Wirklichkeit öffnen können. Dafür ist es wichtig\, die verschiedenen Ebe
 nen unseres Bewusstseins zu erkennen\, zu verstehen und schließlich bewusst
  mit ihnen umzugehen.Im Laufe der Geschichte hat die Menschheit unterschie
 dliche Systeme und spirituelle Wege entwickelt\, um das Bewusstsein auf di
 ese Weise zu erweitern. Diese Methoden haben sich mit dem jeweiligen Bewus
 stseinszustand der Menschheit verändert und weiterentwickelt.In allen Kultur
 en nimmt die Arbeit am Herzzentrum eine wichtige Rolle ein. Die sogenannte
  Kardiognosis\, also das Erkennen mit dem Herzen\, stellt eine zentrale Er
 fahrung in der Reinigungsarbeit der Kraftzentren dar. Sie hilft dabei\, de
 n inneren göttlichen Funken zu wecken und lebendig werden zu lassen. So kann 
 in der ?geheimen Kammer des Herzens? eine unmittelbare Erfahrung des göttlich
 en Lichts geschehen.\n\nViel Spass wünscht Gratis-in-Berlin\n\nLink zum Tip: ht
 tps://www.gratis-in-berlin.de/wissen-live/item/2076854-das-herzzentrum-vor
 tragsreihe-kraftzentren\nZu den Gratis-in-Berlin Angeboten: http://www.gra
 tis-in-berlin.de\n
DTSTART;VALUE=DATE:20260211
DTEND;VALUE=DATE:20260212
SUMMARY:Das Herzzentrum - Vortragsreihe Kraftzentren
END:VEVENT
END:VCALENDAR
