BEGIN:VCALENDAR
VERSION:2.0
PRODID:-//Gratis-in-Berlin//NONSGML kigkonsult.se iCalcreator 2.14//
METHOD:PUBLISH
X-WR-CALNAME:Gratis-in-Berlin Tip Kalender
X-WR-CALDESC:Erhalte Gratis-in-Berlin Tips in deinem Kalender
BEGIN:VEVENT
UID:20260419T141859UTC-0267RFnOzm@Gratis-in-Berlin
DTSTAMP:20260419T141859Z
DESCRIPTION:Online-Vortrag: Der Geist ist's\, der lebendig macht - Stabilit
 ät und Heilung inmitten düsterer Prognosen Wie schwierig und verwickelt die derze
 itige Situation gesellschaftlich oder persönlich auch sein mag\, es muss doch
  etwas geben\, auf das wir heute - hier und jetzt - bauen können\, etwas Nützliche
 s\, was wir alle zur Hand haben! Juliane Klein sagt in diesem Vortrag\, da
 ss GEIST genau die Quelle ist\, die jedem Menschen zur Verfügung steht. GEIST a
 ls Konstante über Jahrtausende hinweg. Erfahren Sie mehr über Präsenz\, Charakteristik
  und Wirksamkeit des GEISTES als Weg zu nachhaltigen Lösungen und einer stabi
 leren Gesundheit. Aktuelle Heilungsbeispiele und praktische Ideen für den Allta
 g geben Ihnen Anknüpfungspunkte zum Weiterdenken und Anwenden. Hier läuft der Liv
 estream: www.christlichewissenschaft.org\n\nViel Spass wünscht Gratis-in-Berlin
 \n\nLink zum Tip: \nZu den Gratis-in-Berlin Angeboten: http://www.gratis-i
 n-berlin.de\n
DTSTART;VALUE=DATE:20260224
DTEND;VALUE=DATE:20260225
SUMMARY:Online-Vortrag: Der Geist ist's\, der lebendig macht - Stabilität und
  Heilung inmitten düsterer Prognosen
END:VEVENT
END:VCALENDAR
