BEGIN:VCALENDAR
VERSION:2.0
PRODID:-//Gratis-in-Berlin//NONSGML kigkonsult.se iCalcreator 2.14//
METHOD:PUBLISH
X-WR-CALNAME:Gratis-in-Berlin Tip Kalender
X-WR-CALDESC:Erhalte Gratis-in-Berlin Tips in deinem Kalender
BEGIN:VEVENT
UID:20260419T132004UTC-4566nVeg7S@Gratis-in-Berlin
DTSTAMP:20260419T132004Z
DESCRIPTION:Bereit für Wunder? Der Vortrag zeigt\, wie ein neu gewonnenes Verständ
 nis von Wundern dabei hilft\, konkrete Krisen zu überwinden und tiefe Sicherhei
 t zu finden.Heike Arneth beleuchtet in Ihrem Vortrag den Begriff Wunder au
 s einer geistigen Perspektive. Das Denken dahingehend ausrichten\, zeigt n
 eue Sichtweisen auf das\, was wirklich ist. So eröffnen sich Wege aus Krisen 
 und wir finden Frieden.In ihrem Vortrag beschäftigt sich Heike Arneth mit di
 esem Thema aus der Perspektive der Christlichen Wissenschaft\, die den Men
 schen als Widerspiegelung Gottes versteht.Heike Arneth\, CSB\, ist Praktik
 erin und Lehrerin der Christlichen Wissenschaft und Mitglied des internati
 onalen Vortragsrats der Christlichen Wissenschaft.&nbsp\;Veranstaltungsort
 : Christliche Wissenschaft in CharlottenburgSchillerstr. 1610625 Berlin\n
 \nViel Spass wünscht Gratis-in-Berlin\n\nLink zum Tip: \nZu den Gratis-in-Berli
 n Angeboten: http://www.gratis-in-berlin.de\n
DTSTART;VALUE=DATE:20260207
DTEND;VALUE=DATE:20260208
SUMMARY:Vortrag: Wunder neu definiert - Krisen überwinden und Sicherheit finden
END:VEVENT
END:VCALENDAR
