BEGIN:VCALENDAR
VERSION:2.0
PRODID:-//Gratis-in-Berlin//NONSGML kigkonsult.se iCalcreator 2.14//
METHOD:PUBLISH
X-WR-CALNAME:Gratis-in-Berlin Tip Kalender
X-WR-CALDESC:Erhalte Gratis-in-Berlin Tips in deinem Kalender
BEGIN:VEVENT
UID:20260419T132223UTC-6565xzM0rt@Gratis-in-Berlin
DTSTAMP:20260419T132223Z
DESCRIPTION:Die Veranstaltung beleuchtet die wenig bekannte Geschichte fran
 zösischer Frauen\, die in der NS-Rüstungsproduktion arbeiten mussten.Camille Fauro
 ux schildert in ihrem Vortrag die Rekrutierung der Frauen zur Arbeit\, ihr
 en Alltag in Deutschland und die ihnen auferlegten Einschränkungen. Dabei ge
 ht sie insbesondere auf Französinnen ein\, die im KZ Ravensbrück inhaftiert wurden
 . Fauroux diskutiert die Rolle von Quellen und Erinnerungen sowie den heut
 igen Blick auf diese Zwangsarbeiterinnen. Nach dem Krieg galten sie als ?f
 reiwillige? Arbeitskräfte. Die französische Öffentlichkeit interessierte sich ni
 cht für ihr Schicksal.Eingeleitet wird die Veranstaltung von einem Überblicksvor
 trag von Roland Borchers zu Zwangsarbeit in Berlin.Begrüßung:Sven Kriese\, Dire
 ktor des Landesarchivs BerlinHannah Sprute\, Mahn- und Gedenkstätte Ravensbr
 ückEinführung:Dr. Roland Borchers\, Dokumentationszentrum NS-ZwangsarbeitVortrag:Dr.
  Camille Fauroux\, Université Toulouse II Jean JaurèsModeration:\nDr. Mareike 
 Vennen\, Landesarchiv BerlinUm 16 Uhr findet eine Kuratorinnenführung durch die
  Ausstellung ?Widerstand ? Verfolgung ? Deportation. Frauen aus Frankreich
  im KZ Ravensbrück 1942?1945' statt. Anmeldung: siehe unten.Veranstaltungsort: 
 Landesarchiv Berlin\, Eichborndamm 115-121\, 13403 Berlin Anmeldung (bis 1
 8. Feb.): info@landesarchiv.berlin.de\n\nViel Spass wünscht Gratis-in-Berlin\n
 \nLink zum Tip: \nZu den Gratis-in-Berlin Angeboten: http://www.gratis-in-
 berlin.de\n
DTSTART;VALUE=DATE:20260219
DTEND;VALUE=DATE:20260220
SUMMARY:Französische Zwangsarbeiterinnen. Quellen und Erinnerungen
END:VEVENT
END:VCALENDAR
