BEGIN:VCALENDAR
VERSION:2.0
PRODID:-//Gratis-in-Berlin//NONSGML kigkonsult.se iCalcreator 2.14//
METHOD:PUBLISH
X-WR-CALNAME:Gratis-in-Berlin Tip Kalender
X-WR-CALDESC:Erhalte Gratis-in-Berlin Tips in deinem Kalender
BEGIN:VEVENT
UID:20260421T094222UTC-9194XoiUjA@Gratis-in-Berlin
DTSTAMP:20260421T094222Z
DESCRIPTION:Agit-PunkRock-LyrikFoxtrot Tango Alfa. Hallt es durch den Äther.
  Vereinzelt und leise. Langsam schwillt es an und wird zum Fanal. Je deutl
 icher die Kriegsvorbereitungen werden\, je mehr aufgerüstet wird\, je mehr Mens
 chen zu Soldaten gemacht werden\, je mehr zivile Bereiche unter die Fuchte
 l des Militärs geraten\, desto lauter ist es zu hören: Foxtrot Tango Alfa. Dies
 es Agit-PunkRock-Lyrik Sprechstück ist das Echo dieser Entwicklung.Mit Punk- un
 d anderen Texten zeichnet es nach\, wie sich eine antimilitaristische Bewe
 gung formiert\, der es an ihrem Ende gelingt\, dass militärische Logik ein f
 ür allemal aus den Köpfen der Menschen verbannt wird und deshalb keine Kriege mehr
  geführt werden können. Das Rezept dafür ist einfach:Konsequent gegen jeden Krieg und g
 egen jedes Militär.Alles andere ist Moppelkotze. punknotwar.noblogs.org | ch
 aos.social/@PunkNotWar\n\nViel Spass wünscht Gratis-in-Berlin\n\nLink zum Tip: 
 \nZu den Gratis-in-Berlin Angeboten: http://www.gratis-in-berlin.de\n
DTSTART;VALUE=DATE:20260219
DTEND;VALUE=DATE:20260220
SUMMARY:'Fuck the Army' - Sprechstück gegen Krieg und Militarisierung im Regenbo
 genCafé
END:VEVENT
END:VCALENDAR
