BEGIN:VCALENDAR
VERSION:2.0
PRODID:-//Gratis-in-Berlin//NONSGML kigkonsult.se iCalcreator 2.14//
METHOD:PUBLISH
X-WR-CALNAME:Gratis-in-Berlin Tip Kalender
X-WR-CALDESC:Erhalte Gratis-in-Berlin Tips in deinem Kalender
BEGIN:VEVENT
UID:20260419T122510UTC-8909ChVKj6@Gratis-in-Berlin
DTSTAMP:20260419T122510Z
DESCRIPTION:Infoabend im Stadtteilzentrum BiesdorfDie Verbraucherzentrale B
 erlin veranstaltet im Rahmen des Projektes ?ZuHaus in Berlin? Informations
 veranstaltungen zu energetischen Sanierungsmaßnahmen\, Energieeffizienz und
  dem Einsatz Erneuerbarer Energien.Wie finde ich die geeignete Heiztechnik
  für mein Haus? Welche Möglichkeiten bieten sich\, wenn die Heizung in die Jahre g
 ekommen ist oder die alte Ölheizung ersetzt werden soll? In dem Vortrag erl
 äutert Energieberater Günter Merkel sinnvolle Kombinationen zur Wärmeversorgung\, e
 gal ob saniertes oder unsaniertes Haus. Zudem erhalten Sie einen Überblick\
 , welche Fördermöglichkeiten es gibt.Die Teilnahme ist kostenlos. Der Zugang ist
  barrierefrei.Weitere Infos unter www.zuhaus-in-berlin.de\n\nViel Spass wünscht
  Gratis-in-Berlin\n\nLink zum Tip: https://www.gratis-in-berlin.de/wissen-
 live/item/2077236-infovortrag-heizung-und-waermepumpe\nZu den Gratis-in-Be
 rlin Angeboten: http://www.gratis-in-berlin.de\n
DTSTART;VALUE=DATE:20260218
DTEND;VALUE=DATE:20260219
SUMMARY:Infovortrag: Heizung und Wärmepumpe
END:VEVENT
END:VCALENDAR
