BEGIN:VCALENDAR
VERSION:2.0
PRODID:-//Gratis-in-Berlin//NONSGML kigkonsult.se iCalcreator 2.14//
METHOD:PUBLISH
X-WR-CALNAME:Gratis-in-Berlin Tip Kalender
X-WR-CALDESC:Erhalte Gratis-in-Berlin Tips in deinem Kalender
BEGIN:VEVENT
UID:20260419T215913UTC-9562ldvBvm@Gratis-in-Berlin
DTSTAMP:20260419T215913Z
DESCRIPTION:Sich wortgewandter ausdrücken\, bei einer Präsenation glänzen oder mit e
 iner Rede auf der nächsten Feier alle vom Hocker hauen - all das und noch vi
 el mehr können Sie hier lernen.Der Rhetorik-Club Mut und Rede Toastmasters Ne
 ukölln stellt sich vor und lädt Sie ein\, Ihre eigenen Redekünste auf die Probe zu s
 tellen.© ZLB\n\nViel Spass wünscht Gratis-in-Berlin\n\nLink zum Tip: https://www
 .gratis-in-berlin.de/kalender/item/2077634-wirkungsvoll-reden-und-begeiste
 rn\nZu den Gratis-in-Berlin Angeboten: http://www.gratis-in-berlin.de\n
DTSTART;VALUE=DATE:20260419
DTEND;VALUE=DATE:20260420
SUMMARY:Wirkungsvoll reden und begeistern
END:VEVENT
END:VCALENDAR
