BEGIN:VCALENDAR
VERSION:2.0
PRODID:-//Gratis-in-Berlin//NONSGML kigkonsult.se iCalcreator 2.14//
METHOD:PUBLISH
X-WR-CALNAME:Gratis-in-Berlin Tip Kalender
X-WR-CALDESC:Erhalte Gratis-in-Berlin Tips in deinem Kalender
BEGIN:VEVENT
UID:20260423T103037UTC-7462KzLlux@Gratis-in-Berlin
DTSTAMP:20260423T103037Z
DESCRIPTION:Chance oder Risiko?Wir wissen\, weniger Fleisch zu verzehren\, 
 ist gut für das Klima und eine vegetarische Ernährungsweise bedeutet\, auf Fleisc
 h und Fisch zu verzichten. Eier\, Milch und Milchprodukte werden je nach F
 orm der vegetarischen Ernährung verzehrt oder ausgespart. Veganerinnen und V
 eganer verzichten hingegen komplett auf tierische Produkte. Aber ist eine 
 vegetarische oder sogar vegane Ernährung auch bereits für Kleinkinder ratsam? Können
  alle notwendigen Nährstoffe in ausreichender Menge aufgenommen werden\, um 
 eine gesunde Entwicklung zu gewährleisten? In diesem Web-Seminar geben wir E
 ltern und Interessierten eine Hilfestellung\, welche kritischen Nährstoffe z
 u beachten sind und welche Meinung Fachgesellschaften vertreten.\n\nViel S
 pass wünscht Gratis-in-Berlin\n\nLink zum Tip: \nZu den Gratis-in-Berlin Angebo
 ten: http://www.gratis-in-berlin.de\n
DTSTART;VALUE=DATE:20260423
DTEND;VALUE=DATE:20260424
SUMMARY:Web-Seminar: Vegane und vegetarische Kleinkindernährung
END:VEVENT
END:VCALENDAR
