BEGIN:VCALENDAR
VERSION:2.0
PRODID:-//Gratis-in-Berlin//NONSGML kigkonsult.se iCalcreator 2.14//
METHOD:PUBLISH
X-WR-CALNAME:Gratis-in-Berlin Tip Kalender
X-WR-CALDESC:Erhalte Gratis-in-Berlin Tips in deinem Kalender
BEGIN:VEVENT
UID:20260421T130409UTC-78892UMVaa@Gratis-in-Berlin
DTSTAMP:20260421T130409Z
DESCRIPTION:Friedrichshain-Kreuzberg ist ?Fairtrade-Bezirk? ? wussten Sie d
 as schon? Aber was genau steckt eigentlich hinter dem Begriff ?Fairtrade??
  Und was haben wir als Individuen damit zu tun?Wir laden Sie ein\, Produkt
 e des Fairen Handels wie Kaffee\, Schokolade\, Müsli oder Orangensaft mit allen
  Sinnen kennenzulernen. In gemütlicher Atmosphäre und beim gemeinsamen Frühstück werde
 n Siegel des Fairen Handels\, faire Rezeptideen und Einkaufsmöglichkeiten vor
 gestellt und aufgezeigt\, wie faire Lieferketten zur Achtung von Menschenr
 echten beitragen und Produzent*innen weltweit stärken. Zum Abschluss erwarte
 t Sie ein Quiz mit fairen Preisen! Willkommen sind alle\, die erfahren möchte
 n\, wie sich Xhain für faire Lieferketten engagiert ? und wie jede und jeder im
  Alltag zu mehr globaler Fairness beitragen kann. Die Veranstaltung wird v
 on der Koordination für Kommunale Entwicklungspolitik des Bezirksamts Friedrich
 shain-Kreuzberg in Zusammenarbeit mit der Stadtbibliothek Friedrichshain-K
 reuzberg und dem Weltladen Sophiefair (https://weltlaeden.de/sophiefair/)&
 nbsp\;umgesetzt. 25. April 2026 // 11-13 Uhr- Mittelpunktbibliothek Wilhel
 m Liebknecht / Namik Kemal- Teilnahme kostenlos- Voranmeldung unter https:
 //pretix.eu/bibxhain/fruehstueck/ oder unter oder telefonisch unter (030) 
 5058 5225 Die Mittelpunktbibliothek ist über die Adalbertstraße ebenerdig zugängli
 ch. Der Eintritt in das Gebäude ist über eine Automatiktür mit Türöffner möglich. Eine zweite 
 Tür am Eingang muss händisch geöffnet werden. In der warmen Jahreszeit bemühen wir uns da
 rum\, dass diese Tür geöffnet bleibt. Die Bibliothek verfügt über einen Aufzug und e
 in barrierefreies WC im Erdgeschoss. Die WC-Nutzung ist mit einem gültigen Bibl
 iotheks- oder Lesesaalausweis möglich. Wenn Sie Fragen haben oder Unterstützung be
 nötigen\, sprechen Sie uns jederzeit an. Wir unterstützen Sie gerne.\n\nViel Spass
  wünscht Gratis-in-Berlin\n\nLink zum Tip: \nZu den Gratis-in-Berlin Angeboten:
  http://www.gratis-in-berlin.de\n
DTSTART;VALUE=DATE:20260425
DTEND;VALUE=DATE:20260426
SUMMARY:Fair in den Tag ? Gemeinsam frühstücken in der Mittelpunktbibliothek
END:VEVENT
END:VCALENDAR
