BEGIN:VCALENDAR
VERSION:2.0
PRODID:-//Gratis-in-Berlin//NONSGML kigkonsult.se iCalcreator 2.14//
METHOD:PUBLISH
X-WR-CALNAME:Gratis-in-Berlin Tip Kalender
X-WR-CALDESC:Erhalte Gratis-in-Berlin Tips in deinem Kalender
BEGIN:VEVENT
UID:20260421T135857UTC-7657v6xsui@Gratis-in-Berlin
DTSTAMP:20260421T135857Z
DESCRIPTION:Die Frühlingssonne bringt es ans Licht\, es ist wieder Zeit für eine gründlich
 e Reinigung unseres Haushalts. Der Frühjahrsputz ist eine Tradition\, die sich 
 in vielen Kulturen und Regionen auf der ganzen Welt findet. Gleichzeitig i
 st es eine gute Gelegenheit\, um alte Gewohnheiten abzulegen und Platz für Neue
 s zu schaffen. Wir laden euch herzlich ein\, an zwei aufeinanderfolgenden 
 Abenden alles über nachhaltiges Putzen zu lernen. Der Kurs findet an den folgen
 den Montagen von 18 bis 19:30 Uhr im Nachbarschaftszentrum Brunnentreff st
 att. Freut euch auf viele Tipps und Tricks zum nachhaltigen Putzen und Hau
 shalten und auf philosophische Gedanken rund um das Thema Reinigen. - 20.0
 4.2026 - die Hausmittel Natron &amp\; Co. - zertifizierte Reinigungsmittel
  - hilfreiche Putzutensilien - Der Sinnersche Kreis- 27.04.2026 - Rezepte 
 zum Selbstanmischen - Waschmaschinenpflege - Ressourcen sparen im Haushalt
 .Kursleitung: Petra KowalenkoDie Teilnehmerzahl ist auf 8 Personen begrenz
 t\, wir bitten um verbindliche Anmeldung unter 030-4496022 oder per E-Mail
  cathrin.mamoudou@volkssolidaritaet.de\n\nViel Spass wünscht Gratis-in-Berlin\n
 \nLink zum Tip: \nZu den Gratis-in-Berlin Angeboten: http://www.gratis-in-
 berlin.de\n
DTSTART;VALUE=DATE:20260427
DTEND;VALUE=DATE:20260428
SUMMARY:Frühjahrsputz - mit einfachen Hausmitteln umweltfreundlich reinigen
END:VEVENT
END:VCALENDAR
