BEGIN:VCALENDAR
VERSION:2.0
PRODID:-//Gratis-in-Berlin//NONSGML kigkonsult.se iCalcreator 2.14//
METHOD:PUBLISH
X-WR-CALNAME:Gratis-in-Berlin Tip Kalender
X-WR-CALDESC:Erhalte Gratis-in-Berlin Tips in deinem Kalender
BEGIN:VEVENT
UID:20260421T122348UTC-5271fKu4lM@Gratis-in-Berlin
DTSTAMP:20260421T122348Z
DESCRIPTION:Und wieder laden wir ein zu einem besonderen\, inspirierenden F
 rühlings-Frauen-Abend. Snacks und Getränke verwöhnen dich. Komm allein\, mit einer F
 reundin\, einer Nachbarin\, einer Kollegin. Versprochen - auch wenn du nie
 manden kennst\, wirst du eine schöne Zeit erleben.Diesmal freuen wir uns auf 
 die Referentin Karen Kammler. Sie ist Psychologin und Psychotherapeutin. W
 ir alle machen Fehler beim Denken. Auf der einen Seite ist das sinnvoll un
 d in bestimmten Fällen überlebensnotwendig. Auf der anderen Seite gibt es typisch
 e Denkfehler\, innere 'Glaubenssätze'\, die das Leben beschweren und krank m
 achen können. An diesem Abend laden wir zur Spurensuche ein. Treffpunkt: Geme
 indehaus der Berliner Stadtmissionsgemeinde Tegel (Ev. Kirche)\, Billerbec
 ker Weg 112-114. T.01639606071\n\nViel Spass wünscht Gratis-in-Berlin\n\nLink z
 um Tip: \nZu den Gratis-in-Berlin Angeboten: http://www.gratis-in-berlin.d
 e\n
DTSTART;VALUE=DATE:20260423
DTEND;VALUE=DATE:20260424
SUMMARY:Frauenabend - abendschön - 'Denkfehler' mit Psychotherapeutin und Psyc
 hologin Karen Kammler
END:VEVENT
END:VCALENDAR
